BEGIN:VCALENDAR
VERSION:2.0
PRODID:-//Calvary Chapel Bartlett - ECPv6.15.20//NONSGML v1.0//EN
CALSCALE:GREGORIAN
METHOD:PUBLISH
X-WR-CALNAME:Calvary Chapel Bartlett
X-ORIGINAL-URL:https://calvarychapelbartlett.com
X-WR-CALDESC:Events for Calvary Chapel Bartlett
REFRESH-INTERVAL;VALUE=DURATION:PT1H
X-Robots-Tag:noindex
X-PUBLISHED-TTL:PT1H
BEGIN:VTIMEZONE
TZID:America/Chicago
BEGIN:DAYLIGHT
TZOFFSETFROM:-0600
TZOFFSETTO:-0500
TZNAME:CDT
DTSTART:20260308T080000
END:DAYLIGHT
BEGIN:STANDARD
TZOFFSETFROM:-0500
TZOFFSETTO:-0600
TZNAME:CST
DTSTART:20261101T070000
END:STANDARD
BEGIN:DAYLIGHT
TZOFFSETFROM:-0600
TZOFFSETTO:-0500
TZNAME:CDT
DTSTART:20270314T080000
END:DAYLIGHT
BEGIN:STANDARD
TZOFFSETFROM:-0500
TZOFFSETTO:-0600
TZNAME:CST
DTSTART:20271107T070000
END:STANDARD
BEGIN:DAYLIGHT
TZOFFSETFROM:-0600
TZOFFSETTO:-0500
TZNAME:CDT
DTSTART:20280312T080000
END:DAYLIGHT
BEGIN:STANDARD
TZOFFSETFROM:-0500
TZOFFSETTO:-0600
TZNAME:CST
DTSTART:20281105T070000
END:STANDARD
END:VTIMEZONE
BEGIN:VEVENT
DTSTART;TZID=America/Chicago:20270602T190000
DTEND;TZID=America/Chicago:20270602T203000
DTSTAMP:20260425T062858
CREATED:20250312T235619Z
LAST-MODIFIED:20250330T155209Z
UID:10002507-1811962800-1811968200@calvarychapelbartlett.com
SUMMARY:Wednesday Evening Service
DESCRIPTION:Come fellowship with us! \nWe are gathering together to worship the Lord and study His Word! Come seek His face and grow in the grace and knowledge of our Lord and Savior Jesus Christ. \nFor anyone unable to attend the service in person\, we continue to livestream every Sunday morning and Wednesday night on our Live page.
URL:https://calvarychapelbartlett.com/event/wednesday-evening-service-257/2027-06-02/
LOCATION:Calvary Chapel Bartlett\, 8587 Memphis Arlington Rd.\, Bartlett\, TN\, 38133\, United States
CATEGORIES:Weekly Services
END:VEVENT
BEGIN:VEVENT
DTSTART;TZID=America/Chicago:20270604T180000
DTEND;TZID=America/Chicago:20270604T210000
DTSTAMP:20260425T062858
CREATED:20250130T011538Z
LAST-MODIFIED:20251102T170131Z
UID:10002995-1812132000-1812142800@calvarychapelbartlett.com
SUMMARY:Young Adult Group Fellowship
DESCRIPTION:Come for fellowship\, food\, and discussion! \n  \nThe Young Adults ministry is open to all ages 18-30.
URL:https://calvarychapelbartlett.com/event/young-adult-group-fellowship-11/2027-06-04/
LOCATION:Calvary Chapel Bartlett\, 8587 Memphis Arlington Rd.\, Bartlett\, TN\, 38133\, United States
CATEGORIES:Young Adults
END:VEVENT
BEGIN:VEVENT
DTSTART;TZID=America/Chicago:20270606T100000
DTEND;TZID=America/Chicago:20270606T113000
DTSTAMP:20260425T062858
CREATED:20250105T062157Z
LAST-MODIFIED:20250330T154922Z
UID:10001996-1812276000-1812281400@calvarychapelbartlett.com
SUMMARY:Sunday Morning Service
DESCRIPTION:Come fellowship with us! \nWe are gathering together to worship the Lord and study His Word! Come seek His face and grow in the grace and knowledge of our Lord and Savior Jesus Christ. \nFor anyone unable to attend the service in person\, we continue to livestream every Sunday morning and Wednesday night on our Live page.
URL:https://calvarychapelbartlett.com/event/sunday-morning-service-247/2027-06-06/
LOCATION:Calvary Chapel Bartlett\, 8587 Memphis Arlington Rd.\, Bartlett\, TN\, 38133\, United States
CATEGORIES:Weekly Services
END:VEVENT
BEGIN:VEVENT
DTSTART;TZID=America/Chicago:20270606T130000
DTEND;TZID=America/Chicago:20270606T170000
DTSTAMP:20260425T062858
CREATED:20241208T164428Z
LAST-MODIFIED:20260104T165608Z
UID:10002724-1812286800-1812301200@calvarychapelbartlett.com
SUMMARY:Homeless Outreach Ministry
DESCRIPTION:Our outreach ministry is meeting at Morris Park on Poplar Avenue! \nWe invite you to come and share the love of Jesus with the homeless and anyone else who may be there.  The great commission compels us to go and make disciples\, and the often-forgotten homeless need Jesus just as much as the rest of us. \nSee Giovanni or Chelsea for more information!
URL:https://calvarychapelbartlett.com/event/homeless-outreach-ministry-13/2027-06-06/
LOCATION:Morris Park\, 747 Poplar Ave\, Memphis\, TN\, 38105\, United States
CATEGORIES:Outreach Ministry
END:VEVENT
BEGIN:VEVENT
DTSTART;TZID=America/Chicago:20270606T183000
DTEND;TZID=America/Chicago:20270606T200000
DTSTAMP:20260425T062858
CREATED:20250105T063412Z
LAST-MODIFIED:20260405T145419Z
UID:10002256-1812306600-1812312000@calvarychapelbartlett.com
SUMMARY:Sunday Evening Prayer Service
DESCRIPTION:Come fellowship with us! \nWe are gathering to worship the Lord\, study His Word\, and go to Him in prayer! Come seek His face and grow in the grace and knowledge of our Lord and Savior Jesus Christ. \nThere is currently no childcare provided for Sunday evening services.
URL:https://calvarychapelbartlett.com/event/sunday-evening-prayer-service-235/2027-06-06/
LOCATION:Calvary Chapel Bartlett\, 8587 Memphis Arlington Rd.\, Bartlett\, TN\, 38133\, United States
CATEGORIES:Weekly Services
END:VEVENT
BEGIN:VEVENT
DTSTART;TZID=America/Chicago:20270609T190000
DTEND;TZID=America/Chicago:20270609T203000
DTSTAMP:20260425T062858
CREATED:20250312T235619Z
LAST-MODIFIED:20250330T155209Z
UID:10002508-1812567600-1812573000@calvarychapelbartlett.com
SUMMARY:Wednesday Evening Service
DESCRIPTION:Come fellowship with us! \nWe are gathering together to worship the Lord and study His Word! Come seek His face and grow in the grace and knowledge of our Lord and Savior Jesus Christ. \nFor anyone unable to attend the service in person\, we continue to livestream every Sunday morning and Wednesday night on our Live page.
URL:https://calvarychapelbartlett.com/event/wednesday-evening-service-257/2027-06-09/
LOCATION:Calvary Chapel Bartlett\, 8587 Memphis Arlington Rd.\, Bartlett\, TN\, 38133\, United States
CATEGORIES:Weekly Services
END:VEVENT
BEGIN:VEVENT
DTSTART;TZID=America/Chicago:20270612T083000
DTEND;TZID=America/Chicago:20270612T100000
DTSTAMP:20260425T062858
CREATED:20250109T005909Z
LAST-MODIFIED:20260104T165522Z
UID:10002672-1812789000-1812794400@calvarychapelbartlett.com
SUMMARY:Men's Prayer Breakfast
DESCRIPTION:Come fellowship with the men of Calvary Chapel Bartlett for our monthly Men’s Prayer Breakfast! \nWe will spend time in the Word of God\, join together in prayer\, and enjoy a FREE breakfast!
URL:https://calvarychapelbartlett.com/event/mens-prayer-breakfast-56/2027-06-12/
LOCATION:Calvary Chapel Bartlett\, 8587 Memphis Arlington Rd.\, Bartlett\, TN\, 38133\, United States
CATEGORIES:Men's Ministry
END:VEVENT
BEGIN:VEVENT
DTSTART;TZID=America/Chicago:20270613T100000
DTEND;TZID=America/Chicago:20270613T113000
DTSTAMP:20260425T062858
CREATED:20250105T062157Z
LAST-MODIFIED:20250330T154922Z
UID:10001997-1812880800-1812886200@calvarychapelbartlett.com
SUMMARY:Sunday Morning Service
DESCRIPTION:Come fellowship with us! \nWe are gathering together to worship the Lord and study His Word! Come seek His face and grow in the grace and knowledge of our Lord and Savior Jesus Christ. \nFor anyone unable to attend the service in person\, we continue to livestream every Sunday morning and Wednesday night on our Live page.
URL:https://calvarychapelbartlett.com/event/sunday-morning-service-247/2027-06-13/
LOCATION:Calvary Chapel Bartlett\, 8587 Memphis Arlington Rd.\, Bartlett\, TN\, 38133\, United States
CATEGORIES:Weekly Services
END:VEVENT
BEGIN:VEVENT
DTSTART;TZID=America/Chicago:20270613T183000
DTEND;TZID=America/Chicago:20270613T200000
DTSTAMP:20260425T062858
CREATED:20250105T063412Z
LAST-MODIFIED:20260405T145419Z
UID:10002257-1812911400-1812916800@calvarychapelbartlett.com
SUMMARY:Sunday Evening Prayer Service
DESCRIPTION:Come fellowship with us! \nWe are gathering to worship the Lord\, study His Word\, and go to Him in prayer! Come seek His face and grow in the grace and knowledge of our Lord and Savior Jesus Christ. \nThere is currently no childcare provided for Sunday evening services.
URL:https://calvarychapelbartlett.com/event/sunday-evening-prayer-service-235/2027-06-13/
LOCATION:Calvary Chapel Bartlett\, 8587 Memphis Arlington Rd.\, Bartlett\, TN\, 38133\, United States
CATEGORIES:Weekly Services
END:VEVENT
BEGIN:VEVENT
DTSTART;TZID=America/Chicago:20270616T190000
DTEND;TZID=America/Chicago:20270616T203000
DTSTAMP:20260425T062858
CREATED:20250312T235619Z
LAST-MODIFIED:20250330T155209Z
UID:10002509-1813172400-1813177800@calvarychapelbartlett.com
SUMMARY:Wednesday Evening Service
DESCRIPTION:Come fellowship with us! \nWe are gathering together to worship the Lord and study His Word! Come seek His face and grow in the grace and knowledge of our Lord and Savior Jesus Christ. \nFor anyone unable to attend the service in person\, we continue to livestream every Sunday morning and Wednesday night on our Live page.
URL:https://calvarychapelbartlett.com/event/wednesday-evening-service-257/2027-06-16/
LOCATION:Calvary Chapel Bartlett\, 8587 Memphis Arlington Rd.\, Bartlett\, TN\, 38133\, United States
CATEGORIES:Weekly Services
END:VEVENT
BEGIN:VEVENT
DTSTART;TZID=America/Chicago:20270618T180000
DTEND;TZID=America/Chicago:20270618T210000
DTSTAMP:20260425T062858
CREATED:20250130T011616Z
LAST-MODIFIED:20251102T170227Z
UID:10003060-1813341600-1813352400@calvarychapelbartlett.com
SUMMARY:Young Adult Group Fellowship
DESCRIPTION:Come for fellowship\, food\, and discussion! \n  \nThe Young Adults ministry is open to all ages 18-30.
URL:https://calvarychapelbartlett.com/event/young-adult-group-fellowship-12/2027-06-18/
LOCATION:Calvary Chapel Bartlett\, 8587 Memphis Arlington Rd.\, Bartlett\, TN\, 38133\, United States
CATEGORIES:Young Adults
END:VEVENT
BEGIN:VEVENT
DTSTART;TZID=America/Chicago:20270620T100000
DTEND;TZID=America/Chicago:20270620T113000
DTSTAMP:20260425T062858
CREATED:20250105T062157Z
LAST-MODIFIED:20250330T154922Z
UID:10001998-1813485600-1813491000@calvarychapelbartlett.com
SUMMARY:Sunday Morning Service
DESCRIPTION:Come fellowship with us! \nWe are gathering together to worship the Lord and study His Word! Come seek His face and grow in the grace and knowledge of our Lord and Savior Jesus Christ. \nFor anyone unable to attend the service in person\, we continue to livestream every Sunday morning and Wednesday night on our Live page.
URL:https://calvarychapelbartlett.com/event/sunday-morning-service-247/2027-06-20/
LOCATION:Calvary Chapel Bartlett\, 8587 Memphis Arlington Rd.\, Bartlett\, TN\, 38133\, United States
CATEGORIES:Weekly Services
END:VEVENT
BEGIN:VEVENT
DTSTART;TZID=America/Chicago:20270620T183000
DTEND;TZID=America/Chicago:20270620T200000
DTSTAMP:20260425T062858
CREATED:20250105T063412Z
LAST-MODIFIED:20260405T145419Z
UID:10002258-1813516200-1813521600@calvarychapelbartlett.com
SUMMARY:Sunday Evening Prayer Service
DESCRIPTION:Come fellowship with us! \nWe are gathering to worship the Lord\, study His Word\, and go to Him in prayer! Come seek His face and grow in the grace and knowledge of our Lord and Savior Jesus Christ. \nThere is currently no childcare provided for Sunday evening services.
URL:https://calvarychapelbartlett.com/event/sunday-evening-prayer-service-235/2027-06-20/
LOCATION:Calvary Chapel Bartlett\, 8587 Memphis Arlington Rd.\, Bartlett\, TN\, 38133\, United States
CATEGORIES:Weekly Services
END:VEVENT
BEGIN:VEVENT
DTSTART;TZID=America/Chicago:20270623T190000
DTEND;TZID=America/Chicago:20270623T203000
DTSTAMP:20260425T062858
CREATED:20250312T235619Z
LAST-MODIFIED:20250330T155209Z
UID:10002510-1813777200-1813782600@calvarychapelbartlett.com
SUMMARY:Wednesday Evening Service
DESCRIPTION:Come fellowship with us! \nWe are gathering together to worship the Lord and study His Word! Come seek His face and grow in the grace and knowledge of our Lord and Savior Jesus Christ. \nFor anyone unable to attend the service in person\, we continue to livestream every Sunday morning and Wednesday night on our Live page.
URL:https://calvarychapelbartlett.com/event/wednesday-evening-service-257/2027-06-23/
LOCATION:Calvary Chapel Bartlett\, 8587 Memphis Arlington Rd.\, Bartlett\, TN\, 38133\, United States
CATEGORIES:Weekly Services
END:VEVENT
BEGIN:VEVENT
DTSTART;TZID=America/Chicago:20270627T100000
DTEND;TZID=America/Chicago:20270627T113000
DTSTAMP:20260425T062858
CREATED:20250105T062157Z
LAST-MODIFIED:20250330T154922Z
UID:10001999-1814090400-1814095800@calvarychapelbartlett.com
SUMMARY:Sunday Morning Service
DESCRIPTION:Come fellowship with us! \nWe are gathering together to worship the Lord and study His Word! Come seek His face and grow in the grace and knowledge of our Lord and Savior Jesus Christ. \nFor anyone unable to attend the service in person\, we continue to livestream every Sunday morning and Wednesday night on our Live page.
URL:https://calvarychapelbartlett.com/event/sunday-morning-service-247/2027-06-27/
LOCATION:Calvary Chapel Bartlett\, 8587 Memphis Arlington Rd.\, Bartlett\, TN\, 38133\, United States
CATEGORIES:Weekly Services
END:VEVENT
BEGIN:VEVENT
DTSTART;TZID=America/Chicago:20270627T183000
DTEND;TZID=America/Chicago:20270627T200000
DTSTAMP:20260425T062858
CREATED:20250105T063412Z
LAST-MODIFIED:20260405T145419Z
UID:10002259-1814121000-1814126400@calvarychapelbartlett.com
SUMMARY:Sunday Evening Prayer Service
DESCRIPTION:Come fellowship with us! \nWe are gathering to worship the Lord\, study His Word\, and go to Him in prayer! Come seek His face and grow in the grace and knowledge of our Lord and Savior Jesus Christ. \nThere is currently no childcare provided for Sunday evening services.
URL:https://calvarychapelbartlett.com/event/sunday-evening-prayer-service-235/2027-06-27/
LOCATION:Calvary Chapel Bartlett\, 8587 Memphis Arlington Rd.\, Bartlett\, TN\, 38133\, United States
CATEGORIES:Weekly Services
END:VEVENT
BEGIN:VEVENT
DTSTART;TZID=America/Chicago:20270630T190000
DTEND;TZID=America/Chicago:20270630T203000
DTSTAMP:20260425T062858
CREATED:20250312T235619Z
LAST-MODIFIED:20250330T155209Z
UID:10002511-1814382000-1814387400@calvarychapelbartlett.com
SUMMARY:Wednesday Evening Service
DESCRIPTION:Come fellowship with us! \nWe are gathering together to worship the Lord and study His Word! Come seek His face and grow in the grace and knowledge of our Lord and Savior Jesus Christ. \nFor anyone unable to attend the service in person\, we continue to livestream every Sunday morning and Wednesday night on our Live page.
URL:https://calvarychapelbartlett.com/event/wednesday-evening-service-257/2027-06-30/
LOCATION:Calvary Chapel Bartlett\, 8587 Memphis Arlington Rd.\, Bartlett\, TN\, 38133\, United States
CATEGORIES:Weekly Services
END:VEVENT
BEGIN:VEVENT
DTSTART;TZID=America/Chicago:20270702T180000
DTEND;TZID=America/Chicago:20270702T210000
DTSTAMP:20260425T062858
CREATED:20250130T011538Z
LAST-MODIFIED:20251102T170131Z
UID:10002996-1814551200-1814562000@calvarychapelbartlett.com
SUMMARY:Young Adult Group Fellowship
DESCRIPTION:Come for fellowship\, food\, and discussion! \n  \nThe Young Adults ministry is open to all ages 18-30.
URL:https://calvarychapelbartlett.com/event/young-adult-group-fellowship-11/2027-07-02/
LOCATION:Calvary Chapel Bartlett\, 8587 Memphis Arlington Rd.\, Bartlett\, TN\, 38133\, United States
CATEGORIES:Young Adults
END:VEVENT
BEGIN:VEVENT
DTSTART;TZID=America/Chicago:20270704T100000
DTEND;TZID=America/Chicago:20270704T113000
DTSTAMP:20260425T062858
CREATED:20250105T062157Z
LAST-MODIFIED:20250330T154922Z
UID:10002000-1814695200-1814700600@calvarychapelbartlett.com
SUMMARY:Sunday Morning Service
DESCRIPTION:Come fellowship with us! \nWe are gathering together to worship the Lord and study His Word! Come seek His face and grow in the grace and knowledge of our Lord and Savior Jesus Christ. \nFor anyone unable to attend the service in person\, we continue to livestream every Sunday morning and Wednesday night on our Live page.
URL:https://calvarychapelbartlett.com/event/sunday-morning-service-247/2027-07-04/
LOCATION:Calvary Chapel Bartlett\, 8587 Memphis Arlington Rd.\, Bartlett\, TN\, 38133\, United States
CATEGORIES:Weekly Services
END:VEVENT
BEGIN:VEVENT
DTSTART;TZID=America/Chicago:20270704T130000
DTEND;TZID=America/Chicago:20270704T170000
DTSTAMP:20260425T062858
CREATED:20241208T164428Z
LAST-MODIFIED:20260104T165608Z
UID:10002725-1814706000-1814720400@calvarychapelbartlett.com
SUMMARY:Homeless Outreach Ministry
DESCRIPTION:Our outreach ministry is meeting at Morris Park on Poplar Avenue! \nWe invite you to come and share the love of Jesus with the homeless and anyone else who may be there.  The great commission compels us to go and make disciples\, and the often-forgotten homeless need Jesus just as much as the rest of us. \nSee Giovanni or Chelsea for more information!
URL:https://calvarychapelbartlett.com/event/homeless-outreach-ministry-13/2027-07-04/
LOCATION:Morris Park\, 747 Poplar Ave\, Memphis\, TN\, 38105\, United States
CATEGORIES:Outreach Ministry
END:VEVENT
BEGIN:VEVENT
DTSTART;TZID=America/Chicago:20270704T183000
DTEND;TZID=America/Chicago:20270704T200000
DTSTAMP:20260425T062858
CREATED:20250105T063412Z
LAST-MODIFIED:20260405T145419Z
UID:10002260-1814725800-1814731200@calvarychapelbartlett.com
SUMMARY:Sunday Evening Prayer Service
DESCRIPTION:Come fellowship with us! \nWe are gathering to worship the Lord\, study His Word\, and go to Him in prayer! Come seek His face and grow in the grace and knowledge of our Lord and Savior Jesus Christ. \nThere is currently no childcare provided for Sunday evening services.
URL:https://calvarychapelbartlett.com/event/sunday-evening-prayer-service-235/2027-07-04/
LOCATION:Calvary Chapel Bartlett\, 8587 Memphis Arlington Rd.\, Bartlett\, TN\, 38133\, United States
CATEGORIES:Weekly Services
END:VEVENT
BEGIN:VEVENT
DTSTART;TZID=America/Chicago:20270707T190000
DTEND;TZID=America/Chicago:20270707T203000
DTSTAMP:20260425T062858
CREATED:20250312T235619Z
LAST-MODIFIED:20250330T155209Z
UID:10002512-1814986800-1814992200@calvarychapelbartlett.com
SUMMARY:Wednesday Evening Service
DESCRIPTION:Come fellowship with us! \nWe are gathering together to worship the Lord and study His Word! Come seek His face and grow in the grace and knowledge of our Lord and Savior Jesus Christ. \nFor anyone unable to attend the service in person\, we continue to livestream every Sunday morning and Wednesday night on our Live page.
URL:https://calvarychapelbartlett.com/event/wednesday-evening-service-257/2027-07-07/
LOCATION:Calvary Chapel Bartlett\, 8587 Memphis Arlington Rd.\, Bartlett\, TN\, 38133\, United States
CATEGORIES:Weekly Services
END:VEVENT
BEGIN:VEVENT
DTSTART;TZID=America/Chicago:20270710T083000
DTEND;TZID=America/Chicago:20270710T100000
DTSTAMP:20260425T062858
CREATED:20250109T005909Z
LAST-MODIFIED:20260104T165522Z
UID:10002673-1815208200-1815213600@calvarychapelbartlett.com
SUMMARY:Men's Prayer Breakfast
DESCRIPTION:Come fellowship with the men of Calvary Chapel Bartlett for our monthly Men’s Prayer Breakfast! \nWe will spend time in the Word of God\, join together in prayer\, and enjoy a FREE breakfast!
URL:https://calvarychapelbartlett.com/event/mens-prayer-breakfast-56/2027-07-10/
LOCATION:Calvary Chapel Bartlett\, 8587 Memphis Arlington Rd.\, Bartlett\, TN\, 38133\, United States
CATEGORIES:Men's Ministry
END:VEVENT
BEGIN:VEVENT
DTSTART;TZID=America/Chicago:20270711T100000
DTEND;TZID=America/Chicago:20270711T113000
DTSTAMP:20260425T062858
CREATED:20250105T062157Z
LAST-MODIFIED:20250330T154922Z
UID:10002001-1815300000-1815305400@calvarychapelbartlett.com
SUMMARY:Sunday Morning Service
DESCRIPTION:Come fellowship with us! \nWe are gathering together to worship the Lord and study His Word! Come seek His face and grow in the grace and knowledge of our Lord and Savior Jesus Christ. \nFor anyone unable to attend the service in person\, we continue to livestream every Sunday morning and Wednesday night on our Live page.
URL:https://calvarychapelbartlett.com/event/sunday-morning-service-247/2027-07-11/
LOCATION:Calvary Chapel Bartlett\, 8587 Memphis Arlington Rd.\, Bartlett\, TN\, 38133\, United States
CATEGORIES:Weekly Services
END:VEVENT
BEGIN:VEVENT
DTSTART;TZID=America/Chicago:20270711T183000
DTEND;TZID=America/Chicago:20270711T200000
DTSTAMP:20260425T062858
CREATED:20250105T063412Z
LAST-MODIFIED:20260405T145419Z
UID:10002261-1815330600-1815336000@calvarychapelbartlett.com
SUMMARY:Sunday Evening Prayer Service
DESCRIPTION:Come fellowship with us! \nWe are gathering to worship the Lord\, study His Word\, and go to Him in prayer! Come seek His face and grow in the grace and knowledge of our Lord and Savior Jesus Christ. \nThere is currently no childcare provided for Sunday evening services.
URL:https://calvarychapelbartlett.com/event/sunday-evening-prayer-service-235/2027-07-11/
LOCATION:Calvary Chapel Bartlett\, 8587 Memphis Arlington Rd.\, Bartlett\, TN\, 38133\, United States
CATEGORIES:Weekly Services
END:VEVENT
BEGIN:VEVENT
DTSTART;TZID=America/Chicago:20270714T190000
DTEND;TZID=America/Chicago:20270714T203000
DTSTAMP:20260425T062858
CREATED:20250312T235619Z
LAST-MODIFIED:20250330T155209Z
UID:10002513-1815591600-1815597000@calvarychapelbartlett.com
SUMMARY:Wednesday Evening Service
DESCRIPTION:Come fellowship with us! \nWe are gathering together to worship the Lord and study His Word! Come seek His face and grow in the grace and knowledge of our Lord and Savior Jesus Christ. \nFor anyone unable to attend the service in person\, we continue to livestream every Sunday morning and Wednesday night on our Live page.
URL:https://calvarychapelbartlett.com/event/wednesday-evening-service-257/2027-07-14/
LOCATION:Calvary Chapel Bartlett\, 8587 Memphis Arlington Rd.\, Bartlett\, TN\, 38133\, United States
CATEGORIES:Weekly Services
END:VEVENT
BEGIN:VEVENT
DTSTART;TZID=America/Chicago:20270716T180000
DTEND;TZID=America/Chicago:20270716T210000
DTSTAMP:20260425T062858
CREATED:20250130T011616Z
LAST-MODIFIED:20251102T170227Z
UID:10003061-1815760800-1815771600@calvarychapelbartlett.com
SUMMARY:Young Adult Group Fellowship
DESCRIPTION:Come for fellowship\, food\, and discussion! \n  \nThe Young Adults ministry is open to all ages 18-30.
URL:https://calvarychapelbartlett.com/event/young-adult-group-fellowship-12/2027-07-16/
LOCATION:Calvary Chapel Bartlett\, 8587 Memphis Arlington Rd.\, Bartlett\, TN\, 38133\, United States
CATEGORIES:Young Adults
END:VEVENT
BEGIN:VEVENT
DTSTART;TZID=America/Chicago:20270718T100000
DTEND;TZID=America/Chicago:20270718T113000
DTSTAMP:20260425T062858
CREATED:20250105T062157Z
LAST-MODIFIED:20250330T154922Z
UID:10002002-1815904800-1815910200@calvarychapelbartlett.com
SUMMARY:Sunday Morning Service
DESCRIPTION:Come fellowship with us! \nWe are gathering together to worship the Lord and study His Word! Come seek His face and grow in the grace and knowledge of our Lord and Savior Jesus Christ. \nFor anyone unable to attend the service in person\, we continue to livestream every Sunday morning and Wednesday night on our Live page.
URL:https://calvarychapelbartlett.com/event/sunday-morning-service-247/2027-07-18/
LOCATION:Calvary Chapel Bartlett\, 8587 Memphis Arlington Rd.\, Bartlett\, TN\, 38133\, United States
CATEGORIES:Weekly Services
END:VEVENT
BEGIN:VEVENT
DTSTART;TZID=America/Chicago:20270718T183000
DTEND;TZID=America/Chicago:20270718T200000
DTSTAMP:20260425T062858
CREATED:20250105T063412Z
LAST-MODIFIED:20260405T145419Z
UID:10002262-1815935400-1815940800@calvarychapelbartlett.com
SUMMARY:Sunday Evening Prayer Service
DESCRIPTION:Come fellowship with us! \nWe are gathering to worship the Lord\, study His Word\, and go to Him in prayer! Come seek His face and grow in the grace and knowledge of our Lord and Savior Jesus Christ. \nThere is currently no childcare provided for Sunday evening services.
URL:https://calvarychapelbartlett.com/event/sunday-evening-prayer-service-235/2027-07-18/
LOCATION:Calvary Chapel Bartlett\, 8587 Memphis Arlington Rd.\, Bartlett\, TN\, 38133\, United States
CATEGORIES:Weekly Services
END:VEVENT
BEGIN:VEVENT
DTSTART;TZID=America/Chicago:20270721T190000
DTEND;TZID=America/Chicago:20270721T203000
DTSTAMP:20260425T062858
CREATED:20250312T235619Z
LAST-MODIFIED:20250330T155209Z
UID:10002514-1816196400-1816201800@calvarychapelbartlett.com
SUMMARY:Wednesday Evening Service
DESCRIPTION:Come fellowship with us! \nWe are gathering together to worship the Lord and study His Word! Come seek His face and grow in the grace and knowledge of our Lord and Savior Jesus Christ. \nFor anyone unable to attend the service in person\, we continue to livestream every Sunday morning and Wednesday night on our Live page.
URL:https://calvarychapelbartlett.com/event/wednesday-evening-service-257/2027-07-21/
LOCATION:Calvary Chapel Bartlett\, 8587 Memphis Arlington Rd.\, Bartlett\, TN\, 38133\, United States
CATEGORIES:Weekly Services
END:VEVENT
END:VCALENDAR