BEGIN:VCALENDAR
VERSION:2.0
PRODID:-//Calvary Chapel Bartlett - ECPv6.15.20//NONSGML v1.0//EN
CALSCALE:GREGORIAN
METHOD:PUBLISH
X-WR-CALNAME:Calvary Chapel Bartlett
X-ORIGINAL-URL:https://calvarychapelbartlett.com
X-WR-CALDESC:Events for Calvary Chapel Bartlett
REFRESH-INTERVAL;VALUE=DURATION:PT1H
X-Robots-Tag:noindex
X-PUBLISHED-TTL:PT1H
BEGIN:VTIMEZONE
TZID:America/Chicago
BEGIN:DAYLIGHT
TZOFFSETFROM:-0600
TZOFFSETTO:-0500
TZNAME:CDT
DTSTART:20240310T080000
END:DAYLIGHT
BEGIN:STANDARD
TZOFFSETFROM:-0500
TZOFFSETTO:-0600
TZNAME:CST
DTSTART:20241103T070000
END:STANDARD
BEGIN:DAYLIGHT
TZOFFSETFROM:-0600
TZOFFSETTO:-0500
TZNAME:CDT
DTSTART:20250309T080000
END:DAYLIGHT
BEGIN:STANDARD
TZOFFSETFROM:-0500
TZOFFSETTO:-0600
TZNAME:CST
DTSTART:20251102T070000
END:STANDARD
BEGIN:DAYLIGHT
TZOFFSETFROM:-0600
TZOFFSETTO:-0500
TZNAME:CDT
DTSTART:20260308T080000
END:DAYLIGHT
BEGIN:STANDARD
TZOFFSETFROM:-0500
TZOFFSETTO:-0600
TZNAME:CST
DTSTART:20261101T070000
END:STANDARD
BEGIN:DAYLIGHT
TZOFFSETFROM:-0600
TZOFFSETTO:-0500
TZNAME:CDT
DTSTART:20270314T080000
END:DAYLIGHT
BEGIN:STANDARD
TZOFFSETFROM:-0500
TZOFFSETTO:-0600
TZNAME:CST
DTSTART:20271107T070000
END:STANDARD
END:VTIMEZONE
BEGIN:VEVENT
DTSTART;TZID=America/Chicago:20260208T100000
DTEND;TZID=America/Chicago:20260208T113000
DTSTAMP:20260422T160732
CREATED:20250105T062157Z
LAST-MODIFIED:20250330T154922Z
UID:10001927-1770544800-1770550200@calvarychapelbartlett.com
SUMMARY:Sunday Morning Service
DESCRIPTION:Come fellowship with us! \nWe are gathering together to worship the Lord and study His Word! Come seek His face and grow in the grace and knowledge of our Lord and Savior Jesus Christ. \nFor anyone unable to attend the service in person\, we continue to livestream every Sunday morning and Wednesday night on our Live page.
URL:https://calvarychapelbartlett.com/event/sunday-morning-service-247/2026-02-08/
LOCATION:Calvary Chapel Bartlett\, 8587 Memphis Arlington Rd.\, Bartlett\, TN\, 38133\, United States
CATEGORIES:Weekly Services
END:VEVENT
BEGIN:VEVENT
DTSTART;TZID=America/Chicago:20260206T180000
DTEND;TZID=America/Chicago:20260206T210000
DTSTAMP:20260422T160732
CREATED:20250130T011538Z
LAST-MODIFIED:20251102T170131Z
UID:10002979-1770400800-1770411600@calvarychapelbartlett.com
SUMMARY:Young Adult Group Fellowship
DESCRIPTION:Come for fellowship\, food\, and discussion! \n  \nThe Young Adults ministry is open to all ages 18-30.
URL:https://calvarychapelbartlett.com/event/young-adult-group-fellowship-11/2026-02-06/
LOCATION:Calvary Chapel Bartlett\, 8587 Memphis Arlington Rd.\, Bartlett\, TN\, 38133\, United States
CATEGORIES:Young Adults
END:VEVENT
BEGIN:VEVENT
DTSTART;TZID=America/Chicago:20260204T190000
DTEND;TZID=America/Chicago:20260204T203000
DTSTAMP:20260422T160732
CREATED:20250312T235619Z
LAST-MODIFIED:20250330T155209Z
UID:10002438-1770231600-1770237000@calvarychapelbartlett.com
SUMMARY:Wednesday Evening Service
DESCRIPTION:Come fellowship with us! \nWe are gathering together to worship the Lord and study His Word! Come seek His face and grow in the grace and knowledge of our Lord and Savior Jesus Christ. \nFor anyone unable to attend the service in person\, we continue to livestream every Sunday morning and Wednesday night on our Live page.
URL:https://calvarychapelbartlett.com/event/wednesday-evening-service-257/2026-02-04/
LOCATION:Calvary Chapel Bartlett\, 8587 Memphis Arlington Rd.\, Bartlett\, TN\, 38133\, United States
CATEGORIES:Weekly Services
END:VEVENT
BEGIN:VEVENT
DTSTART;TZID=America/Chicago:20260203T190000
DTEND;TZID=America/Chicago:20260203T203000
DTSTAMP:20260422T160732
CREATED:20250803T152503Z
LAST-MODIFIED:20260125T223230Z
UID:10002941-1770145200-1770150600@calvarychapelbartlett.com
SUMMARY:Women's Bible Study - Evening Session
DESCRIPTION:Join us for our Women’s Bible Study\, following the life of Moses!\n\nMOSES: FIRE – WATER – STONE\n  \nChildcare is NOT provided for evening sessions \n  \nThe cost is $25 for materials \n  \nBy faith Moses\, when he became of age\, refused to be called the son of Pharaoh’s daughter\, choosing rather to suffer affliction with the people of God than to enjoy the passing pleasures of sin\, esteeming the reproach of Christ far greater riches than the treasures in Egypt; for he looked to the reward. Hebrews 11:24-26 \n  \nCLICK HERE TO SIGN UP!
URL:https://calvarychapelbartlett.com/event/womens-bible-study-evening-session/2026-02-03/
LOCATION:Calvary Chapel Bartlett\, 8587 Memphis Arlington Rd.\, Bartlett\, TN\, 38133\, United States
CATEGORIES:Women's Ministry
END:VEVENT
BEGIN:VEVENT
DTSTART;TZID=America/Chicago:20260203T093000
DTEND;TZID=America/Chicago:20260203T110000
DTSTAMP:20260422T160732
CREATED:20250803T150852Z
LAST-MODIFIED:20260125T223009Z
UID:10002916-1770111000-1770116400@calvarychapelbartlett.com
SUMMARY:Women's Bible Study - Morning Session
DESCRIPTION:Join us for our Women’s Bible Study\, following the life of Moses!\n\nMOSES: FIRE – WATER – STONE\n  \nChildcare is provided for morning sessions \n  \nThe cost is $25 for materials \n  \nBy faith Moses\, when he became of age\, refused to be called the son of Pharaoh’s daughter\, choosing rather to suffer affliction with the people of God than to enjoy the passing pleasures of sin\, esteeming the reproach of Christ far greater riches than the treasures in Egypt; for he looked to the reward. Hebrews 11:24-26 \n  \nCLICK HERE TO SIGN UP!
URL:https://calvarychapelbartlett.com/event/womens-bible-study-morning-session/2026-02-03/
LOCATION:Calvary Chapel Bartlett\, 8587 Memphis Arlington Rd.\, Bartlett\, TN\, 38133\, United States
CATEGORIES:Women's Ministry
END:VEVENT
BEGIN:VEVENT
DTSTART;TZID=America/Chicago:20260201T183000
DTEND;TZID=America/Chicago:20260201T200000
DTSTAMP:20260422T160732
CREATED:20250105T063412Z
LAST-MODIFIED:20260405T145419Z
UID:10003262-1769970600-1769976000@calvarychapelbartlett.com
SUMMARY:Sunday Evening Prayer Service
DESCRIPTION:Come fellowship with us! \nWe are gathering to worship the Lord\, study His Word\, and go to Him in prayer! Come seek His face and grow in the grace and knowledge of our Lord and Savior Jesus Christ. \nThere is currently no childcare provided for Sunday evening services.
URL:https://calvarychapelbartlett.com/event/sunday-evening-prayer-service-235/2026-02-01/
LOCATION:Calvary Chapel Bartlett\, 8587 Memphis Arlington Rd.\, Bartlett\, TN\, 38133\, United States
CATEGORIES:Weekly Services
END:VEVENT
BEGIN:VEVENT
DTSTART;TZID=America/Chicago:20260201T130000
DTEND;TZID=America/Chicago:20260201T170000
DTSTAMP:20260422T160732
CREATED:20241208T164428Z
LAST-MODIFIED:20260104T165608Z
UID:10002708-1769950800-1769965200@calvarychapelbartlett.com
SUMMARY:Homeless Outreach Ministry
DESCRIPTION:Our outreach ministry is meeting at Morris Park on Poplar Avenue! \nWe invite you to come and share the love of Jesus with the homeless and anyone else who may be there.  The great commission compels us to go and make disciples\, and the often-forgotten homeless need Jesus just as much as the rest of us. \nSee Giovanni or Chelsea for more information!
URL:https://calvarychapelbartlett.com/event/homeless-outreach-ministry-13/2026-02-01/
LOCATION:Morris Park\, 747 Poplar Ave\, Memphis\, TN\, 38105\, United States
CATEGORIES:Outreach Ministry
END:VEVENT
BEGIN:VEVENT
DTSTART;TZID=America/Chicago:20260201T100000
DTEND;TZID=America/Chicago:20260201T113000
DTSTAMP:20260422T160732
CREATED:20250105T062157Z
LAST-MODIFIED:20250330T154922Z
UID:10001926-1769940000-1769945400@calvarychapelbartlett.com
SUMMARY:Sunday Morning Service
DESCRIPTION:Come fellowship with us! \nWe are gathering together to worship the Lord and study His Word! Come seek His face and grow in the grace and knowledge of our Lord and Savior Jesus Christ. \nFor anyone unable to attend the service in person\, we continue to livestream every Sunday morning and Wednesday night on our Live page.
URL:https://calvarychapelbartlett.com/event/sunday-morning-service-247/2026-02-01/
LOCATION:Calvary Chapel Bartlett\, 8587 Memphis Arlington Rd.\, Bartlett\, TN\, 38133\, United States
CATEGORIES:Weekly Services
END:VEVENT
BEGIN:VEVENT
DTSTART;TZID=America/Chicago:20260128T190000
DTEND;TZID=America/Chicago:20260128T203000
DTSTAMP:20260422T160732
CREATED:20250312T235619Z
LAST-MODIFIED:20250330T155209Z
UID:10002437-1769626800-1769632200@calvarychapelbartlett.com
SUMMARY:Wednesday Evening Service
DESCRIPTION:Come fellowship with us! \nWe are gathering together to worship the Lord and study His Word! Come seek His face and grow in the grace and knowledge of our Lord and Savior Jesus Christ. \nFor anyone unable to attend the service in person\, we continue to livestream every Sunday morning and Wednesday night on our Live page.
URL:https://calvarychapelbartlett.com/event/wednesday-evening-service-257/2026-01-28/
LOCATION:Calvary Chapel Bartlett\, 8587 Memphis Arlington Rd.\, Bartlett\, TN\, 38133\, United States
CATEGORIES:Weekly Services
END:VEVENT
BEGIN:VEVENT
DTSTART;TZID=America/Chicago:20260125T183000
DTEND;TZID=America/Chicago:20260125T200000
DTSTAMP:20260422T160732
CREATED:20260124T205841Z
LAST-MODIFIED:20260124T210439Z
UID:10002185-1769365800-1769371200@calvarychapelbartlett.com
SUMMARY:CANCELLED - Sunday Evening Prayer Service
DESCRIPTION:Due to hazardous road conditions caused by extreme inclement weather\, we are sorry to announce that this Sunday’s morning and evening services have been cancelled.  \nWe hope and pray that our Wednesday evening study will proceed as scheduled.
URL:https://calvarychapelbartlett.com/event/sunday-evening-prayer-service-235-5/
LOCATION:Calvary Chapel Bartlett\, 8587 Memphis Arlington Rd.\, Bartlett\, TN\, 38133\, United States
CATEGORIES:Cancelled Events
END:VEVENT
BEGIN:VEVENT
DTSTART;TZID=America/Chicago:20260125T183000
DTEND;TZID=America/Chicago:20260125T200000
DTSTAMP:20260422T160732
CREATED:20250105T063412Z
LAST-MODIFIED:20260405T145419Z
UID:10003261-1769365800-1769371200@calvarychapelbartlett.com
SUMMARY:Sunday Evening Prayer Service
DESCRIPTION:Come fellowship with us! \nWe are gathering to worship the Lord\, study His Word\, and go to Him in prayer! Come seek His face and grow in the grace and knowledge of our Lord and Savior Jesus Christ. \nThere is currently no childcare provided for Sunday evening services.
URL:https://calvarychapelbartlett.com/event/sunday-evening-prayer-service-235/2026-01-25/
LOCATION:Calvary Chapel Bartlett\, 8587 Memphis Arlington Rd.\, Bartlett\, TN\, 38133\, United States
CATEGORIES:Weekly Services
END:VEVENT
BEGIN:VEVENT
DTSTART;TZID=America/Chicago:20260125T100000
DTEND;TZID=America/Chicago:20260125T113000
DTSTAMP:20260422T160733
CREATED:20260124T205717Z
LAST-MODIFIED:20260124T205718Z
UID:10001925-1769335200-1769340600@calvarychapelbartlett.com
SUMMARY:CANCELLED - Sunday Morning Service
DESCRIPTION:Due to hazardous road conditions caused by extreme inclement weather\, we are sorry to announce that this Sunday’s morning and evening services have been cancelled.   \nWe hope and pray that our Wednesday evening study will proceed as scheduled.
URL:https://calvarychapelbartlett.com/event/sunday-morning-service-247-2/
LOCATION:Calvary Chapel Bartlett\, 8587 Memphis Arlington Rd.\, Bartlett\, TN\, 38133\, United States
CATEGORIES:Cancelled Events
END:VEVENT
BEGIN:VEVENT
DTSTART;TZID=America/Chicago:20260121T190000
DTEND;TZID=America/Chicago:20260121T203000
DTSTAMP:20260422T160733
CREATED:20250312T235619Z
LAST-MODIFIED:20250330T155209Z
UID:10002436-1769022000-1769027400@calvarychapelbartlett.com
SUMMARY:Wednesday Evening Service
DESCRIPTION:Come fellowship with us! \nWe are gathering together to worship the Lord and study His Word! Come seek His face and grow in the grace and knowledge of our Lord and Savior Jesus Christ. \nFor anyone unable to attend the service in person\, we continue to livestream every Sunday morning and Wednesday night on our Live page.
URL:https://calvarychapelbartlett.com/event/wednesday-evening-service-257/2026-01-21/
LOCATION:Calvary Chapel Bartlett\, 8587 Memphis Arlington Rd.\, Bartlett\, TN\, 38133\, United States
CATEGORIES:Weekly Services
END:VEVENT
BEGIN:VEVENT
DTSTART;TZID=America/Chicago:20260118T183000
DTEND;TZID=America/Chicago:20260118T200000
DTSTAMP:20260422T160733
CREATED:20250105T063412Z
LAST-MODIFIED:20260405T145419Z
UID:10003260-1768761000-1768766400@calvarychapelbartlett.com
SUMMARY:Sunday Evening Prayer Service
DESCRIPTION:Come fellowship with us! \nWe are gathering to worship the Lord\, study His Word\, and go to Him in prayer! Come seek His face and grow in the grace and knowledge of our Lord and Savior Jesus Christ. \nThere is currently no childcare provided for Sunday evening services.
URL:https://calvarychapelbartlett.com/event/sunday-evening-prayer-service-235/2026-01-18/
LOCATION:Calvary Chapel Bartlett\, 8587 Memphis Arlington Rd.\, Bartlett\, TN\, 38133\, United States
CATEGORIES:Weekly Services
END:VEVENT
BEGIN:VEVENT
DTSTART;TZID=America/Chicago:20260118T100000
DTEND;TZID=America/Chicago:20260118T113000
DTSTAMP:20260422T160733
CREATED:20250105T062157Z
LAST-MODIFIED:20250330T154922Z
UID:10001924-1768730400-1768735800@calvarychapelbartlett.com
SUMMARY:Sunday Morning Service
DESCRIPTION:Come fellowship with us! \nWe are gathering together to worship the Lord and study His Word! Come seek His face and grow in the grace and knowledge of our Lord and Savior Jesus Christ. \nFor anyone unable to attend the service in person\, we continue to livestream every Sunday morning and Wednesday night on our Live page.
URL:https://calvarychapelbartlett.com/event/sunday-morning-service-247/2026-01-18/
LOCATION:Calvary Chapel Bartlett\, 8587 Memphis Arlington Rd.\, Bartlett\, TN\, 38133\, United States
CATEGORIES:Weekly Services
END:VEVENT
BEGIN:VEVENT
DTSTART;TZID=America/Chicago:20260116T180000
DTEND;TZID=America/Chicago:20260116T210000
DTSTAMP:20260422T160733
CREATED:20250130T011616Z
LAST-MODIFIED:20251102T170227Z
UID:10003043-1768586400-1768597200@calvarychapelbartlett.com
SUMMARY:Young Adult Group Fellowship
DESCRIPTION:Come for fellowship\, food\, and discussion! \n  \nThe Young Adults ministry is open to all ages 18-30.
URL:https://calvarychapelbartlett.com/event/young-adult-group-fellowship-12/2026-01-16/
LOCATION:Calvary Chapel Bartlett\, 8587 Memphis Arlington Rd.\, Bartlett\, TN\, 38133\, United States
CATEGORIES:Young Adults
END:VEVENT
BEGIN:VEVENT
DTSTART;TZID=America/Chicago:20260114T190000
DTEND;TZID=America/Chicago:20260114T203000
DTSTAMP:20260422T160733
CREATED:20250312T235619Z
LAST-MODIFIED:20250330T155209Z
UID:10002435-1768417200-1768422600@calvarychapelbartlett.com
SUMMARY:Wednesday Evening Service
DESCRIPTION:Come fellowship with us! \nWe are gathering together to worship the Lord and study His Word! Come seek His face and grow in the grace and knowledge of our Lord and Savior Jesus Christ. \nFor anyone unable to attend the service in person\, we continue to livestream every Sunday morning and Wednesday night on our Live page.
URL:https://calvarychapelbartlett.com/event/wednesday-evening-service-257/2026-01-14/
LOCATION:Calvary Chapel Bartlett\, 8587 Memphis Arlington Rd.\, Bartlett\, TN\, 38133\, United States
CATEGORIES:Weekly Services
END:VEVENT
BEGIN:VEVENT
DTSTART;TZID=America/Chicago:20260111T183000
DTEND;TZID=America/Chicago:20260111T200000
DTSTAMP:20260422T160733
CREATED:20250105T063412Z
LAST-MODIFIED:20260405T145419Z
UID:10003259-1768156200-1768161600@calvarychapelbartlett.com
SUMMARY:Sunday Evening Prayer Service
DESCRIPTION:Come fellowship with us! \nWe are gathering to worship the Lord\, study His Word\, and go to Him in prayer! Come seek His face and grow in the grace and knowledge of our Lord and Savior Jesus Christ. \nThere is currently no childcare provided for Sunday evening services.
URL:https://calvarychapelbartlett.com/event/sunday-evening-prayer-service-235/2026-01-11/
LOCATION:Calvary Chapel Bartlett\, 8587 Memphis Arlington Rd.\, Bartlett\, TN\, 38133\, United States
CATEGORIES:Weekly Services
END:VEVENT
BEGIN:VEVENT
DTSTART;TZID=America/Chicago:20260111T100000
DTEND;TZID=America/Chicago:20260111T113000
DTSTAMP:20260422T160733
CREATED:20250105T062157Z
LAST-MODIFIED:20250330T154922Z
UID:10001923-1768125600-1768131000@calvarychapelbartlett.com
SUMMARY:Sunday Morning Service
DESCRIPTION:Come fellowship with us! \nWe are gathering together to worship the Lord and study His Word! Come seek His face and grow in the grace and knowledge of our Lord and Savior Jesus Christ. \nFor anyone unable to attend the service in person\, we continue to livestream every Sunday morning and Wednesday night on our Live page.
URL:https://calvarychapelbartlett.com/event/sunday-morning-service-247/2026-01-11/
LOCATION:Calvary Chapel Bartlett\, 8587 Memphis Arlington Rd.\, Bartlett\, TN\, 38133\, United States
CATEGORIES:Weekly Services
END:VEVENT
BEGIN:VEVENT
DTSTART;TZID=America/Chicago:20260110T083000
DTEND;TZID=America/Chicago:20260110T100000
DTSTAMP:20260422T160733
CREATED:20250109T005909Z
LAST-MODIFIED:20260104T165522Z
UID:10002655-1768033800-1768039200@calvarychapelbartlett.com
SUMMARY:Men's Prayer Breakfast
DESCRIPTION:Come fellowship with the men of Calvary Chapel Bartlett for our monthly Men’s Prayer Breakfast! \nWe will spend time in the Word of God\, join together in prayer\, and enjoy a FREE breakfast!
URL:https://calvarychapelbartlett.com/event/mens-prayer-breakfast-56/2026-01-10/
LOCATION:Calvary Chapel Bartlett\, 8587 Memphis Arlington Rd.\, Bartlett\, TN\, 38133\, United States
CATEGORIES:Men's Ministry
END:VEVENT
BEGIN:VEVENT
DTSTART;TZID=America/Chicago:20260107T190000
DTEND;TZID=America/Chicago:20260107T203000
DTSTAMP:20260422T160733
CREATED:20250312T235619Z
LAST-MODIFIED:20250330T155209Z
UID:10002434-1767812400-1767817800@calvarychapelbartlett.com
SUMMARY:Wednesday Evening Service
DESCRIPTION:Come fellowship with us! \nWe are gathering together to worship the Lord and study His Word! Come seek His face and grow in the grace and knowledge of our Lord and Savior Jesus Christ. \nFor anyone unable to attend the service in person\, we continue to livestream every Sunday morning and Wednesday night on our Live page.
URL:https://calvarychapelbartlett.com/event/wednesday-evening-service-257/2026-01-07/
LOCATION:Calvary Chapel Bartlett\, 8587 Memphis Arlington Rd.\, Bartlett\, TN\, 38133\, United States
CATEGORIES:Weekly Services
END:VEVENT
BEGIN:VEVENT
DTSTART;TZID=America/Chicago:20260104T183000
DTEND;TZID=America/Chicago:20260104T200000
DTSTAMP:20260422T160733
CREATED:20250105T063412Z
LAST-MODIFIED:20260405T145419Z
UID:10003258-1767551400-1767556800@calvarychapelbartlett.com
SUMMARY:Sunday Evening Prayer Service
DESCRIPTION:Come fellowship with us! \nWe are gathering to worship the Lord\, study His Word\, and go to Him in prayer! Come seek His face and grow in the grace and knowledge of our Lord and Savior Jesus Christ. \nThere is currently no childcare provided for Sunday evening services.
URL:https://calvarychapelbartlett.com/event/sunday-evening-prayer-service-235/2026-01-04/
LOCATION:Calvary Chapel Bartlett\, 8587 Memphis Arlington Rd.\, Bartlett\, TN\, 38133\, United States
CATEGORIES:Weekly Services
END:VEVENT
BEGIN:VEVENT
DTSTART;TZID=America/Chicago:20260104T130000
DTEND;TZID=America/Chicago:20260104T170000
DTSTAMP:20260422T160733
CREATED:20241208T164428Z
LAST-MODIFIED:20260104T165608Z
UID:10002707-1767531600-1767546000@calvarychapelbartlett.com
SUMMARY:Homeless Outreach Ministry
DESCRIPTION:Our outreach ministry is meeting at Morris Park on Poplar Avenue! \nWe invite you to come and share the love of Jesus with the homeless and anyone else who may be there.  The great commission compels us to go and make disciples\, and the often-forgotten homeless need Jesus just as much as the rest of us. \nSee Giovanni or Chelsea for more information!
URL:https://calvarychapelbartlett.com/event/homeless-outreach-ministry-13/2026-01-04/
LOCATION:Morris Park\, 747 Poplar Ave\, Memphis\, TN\, 38105\, United States
CATEGORIES:Outreach Ministry
END:VEVENT
BEGIN:VEVENT
DTSTART;TZID=America/Chicago:20260104T100000
DTEND;TZID=America/Chicago:20260104T113000
DTSTAMP:20260422T160733
CREATED:20250105T062157Z
LAST-MODIFIED:20250330T154922Z
UID:10001922-1767520800-1767526200@calvarychapelbartlett.com
SUMMARY:Sunday Morning Service
DESCRIPTION:Come fellowship with us! \nWe are gathering together to worship the Lord and study His Word! Come seek His face and grow in the grace and knowledge of our Lord and Savior Jesus Christ. \nFor anyone unable to attend the service in person\, we continue to livestream every Sunday morning and Wednesday night on our Live page.
URL:https://calvarychapelbartlett.com/event/sunday-morning-service-247/2026-01-04/
LOCATION:Calvary Chapel Bartlett\, 8587 Memphis Arlington Rd.\, Bartlett\, TN\, 38133\, United States
CATEGORIES:Weekly Services
END:VEVENT
BEGIN:VEVENT
DTSTART;TZID=America/Chicago:20260102T200000
DTEND;TZID=America/Chicago:20260103T080000
DTSTAMP:20260422T160733
CREATED:20251116T164011Z
LAST-MODIFIED:20251116T164658Z
UID:10003102-1767384000-1767427200@calvarychapelbartlett.com
SUMMARY:Youth Group Overnighter
DESCRIPTION:Come celebrate the dawning of a new year with an overnight lock-in at the church! \nAs with most youth events\, there will be Bible study\, food\, and fun. \nThis is a free event \nPlease make sure that your rides are able to pick you up by 8am sharp \n  \nSee you there!
URL:https://calvarychapelbartlett.com/event/youth-overnighter/
LOCATION:Calvary Chapel Bartlett\, 8587 Memphis Arlington Rd.\, Bartlett\, TN\, 38133\, United States
CATEGORIES:Youth Group
END:VEVENT
BEGIN:VEVENT
DTSTART;TZID=America/Chicago:20260102T180000
DTEND;TZID=America/Chicago:20260102T210000
DTSTAMP:20260422T160733
CREATED:20250130T011538Z
LAST-MODIFIED:20251102T170131Z
UID:10002978-1767376800-1767387600@calvarychapelbartlett.com
SUMMARY:Young Adult Group Fellowship
DESCRIPTION:Come for fellowship\, food\, and discussion! \n  \nThe Young Adults ministry is open to all ages 18-30.
URL:https://calvarychapelbartlett.com/event/young-adult-group-fellowship-11/2026-01-02/
LOCATION:Calvary Chapel Bartlett\, 8587 Memphis Arlington Rd.\, Bartlett\, TN\, 38133\, United States
CATEGORIES:Young Adults
END:VEVENT
BEGIN:VEVENT
DTSTART;TZID=America/Chicago:20251231T190000
DTEND;TZID=America/Chicago:20251231T203000
DTSTAMP:20260422T160733
CREATED:20251224T233126Z
LAST-MODIFIED:20251224T233148Z
UID:10002433-1767207600-1767213000@calvarychapelbartlett.com
SUMMARY:CANCELLED - Wednesday Evening Service
DESCRIPTION:Tonight’s service has been cancelled. \nHappy new year!  We’ll see you on Sunday!
URL:https://calvarychapelbartlett.com/event/wednesday-evening-service-257-3/
LOCATION:Calvary Chapel Bartlett\, 8587 Memphis Arlington Rd.\, Bartlett\, TN\, 38133\, United States
CATEGORIES:Cancelled Events
END:VEVENT
BEGIN:VEVENT
DTSTART;TZID=America/Chicago:20251228T183000
DTEND;TZID=America/Chicago:20251228T200000
DTSTAMP:20260422T160733
CREATED:20250105T063412Z
LAST-MODIFIED:20260405T145419Z
UID:10003257-1766946600-1766952000@calvarychapelbartlett.com
SUMMARY:Sunday Evening Prayer Service
DESCRIPTION:Come fellowship with us! \nWe are gathering to worship the Lord\, study His Word\, and go to Him in prayer! Come seek His face and grow in the grace and knowledge of our Lord and Savior Jesus Christ. \nThere is currently no childcare provided for Sunday evening services.
URL:https://calvarychapelbartlett.com/event/sunday-evening-prayer-service-235/2025-12-28/
LOCATION:Calvary Chapel Bartlett\, 8587 Memphis Arlington Rd.\, Bartlett\, TN\, 38133\, United States
CATEGORIES:Weekly Services
END:VEVENT
BEGIN:VEVENT
DTSTART;TZID=America/Chicago:20251228T100000
DTEND;TZID=America/Chicago:20251228T113000
DTSTAMP:20260422T160733
CREATED:20250105T062157Z
LAST-MODIFIED:20250330T154922Z
UID:10001921-1766916000-1766921400@calvarychapelbartlett.com
SUMMARY:Sunday Morning Service
DESCRIPTION:Come fellowship with us! \nWe are gathering together to worship the Lord and study His Word! Come seek His face and grow in the grace and knowledge of our Lord and Savior Jesus Christ. \nFor anyone unable to attend the service in person\, we continue to livestream every Sunday morning and Wednesday night on our Live page.
URL:https://calvarychapelbartlett.com/event/sunday-morning-service-247/2025-12-28/
LOCATION:Calvary Chapel Bartlett\, 8587 Memphis Arlington Rd.\, Bartlett\, TN\, 38133\, United States
CATEGORIES:Weekly Services
END:VEVENT
BEGIN:VEVENT
DTSTART;TZID=America/Chicago:20251224T170000
DTEND;TZID=America/Chicago:20251224T190000
DTSTAMP:20260422T160733
CREATED:20251204T000950Z
LAST-MODIFIED:20251204T001128Z
UID:10002432-1766595600-1766602800@calvarychapelbartlett.com
SUMMARY:Christmas Eve Service
DESCRIPTION:Join us for our annual Christmas Eve service\, as we come together to celebrate the Advent of Jesus! \nPlease note the special start time of 5:00pm
URL:https://calvarychapelbartlett.com/event/wednesday-evening-service-2/
LOCATION:Calvary Chapel Bartlett\, 8587 Memphis Arlington Rd.\, Bartlett\, TN\, 38133\, United States
CATEGORIES:All-Church
END:VEVENT
END:VCALENDAR