BEGIN:VCALENDAR
VERSION:2.0
PRODID:-//Calvary Chapel Bartlett - ECPv6.15.20//NONSGML v1.0//EN
CALSCALE:GREGORIAN
METHOD:PUBLISH
X-ORIGINAL-URL:https://calvarychapelbartlett.com
X-WR-CALDESC:Events for Calvary Chapel Bartlett
REFRESH-INTERVAL;VALUE=DURATION:PT1H
X-Robots-Tag:noindex
X-PUBLISHED-TTL:PT1H
BEGIN:VTIMEZONE
TZID:America/Chicago
BEGIN:DAYLIGHT
TZOFFSETFROM:-0600
TZOFFSETTO:-0500
TZNAME:CDT
DTSTART:20250309T080000
END:DAYLIGHT
BEGIN:STANDARD
TZOFFSETFROM:-0500
TZOFFSETTO:-0600
TZNAME:CST
DTSTART:20251102T070000
END:STANDARD
BEGIN:DAYLIGHT
TZOFFSETFROM:-0600
TZOFFSETTO:-0500
TZNAME:CDT
DTSTART:20260308T080000
END:DAYLIGHT
BEGIN:STANDARD
TZOFFSETFROM:-0500
TZOFFSETTO:-0600
TZNAME:CST
DTSTART:20261101T070000
END:STANDARD
BEGIN:DAYLIGHT
TZOFFSETFROM:-0600
TZOFFSETTO:-0500
TZNAME:CDT
DTSTART:20270314T080000
END:DAYLIGHT
BEGIN:STANDARD
TZOFFSETFROM:-0500
TZOFFSETTO:-0600
TZNAME:CST
DTSTART:20271107T070000
END:STANDARD
END:VTIMEZONE
BEGIN:VEVENT
DTSTART;TZID=America/Chicago:20260705T130000
DTEND;TZID=America/Chicago:20260705T170000
DTSTAMP:20260422T163326
CREATED:20241208T164428Z
LAST-MODIFIED:20260104T165608Z
UID:10002713-1783256400-1783270800@calvarychapelbartlett.com
SUMMARY:Homeless Outreach Ministry
DESCRIPTION:Our outreach ministry is meeting at Morris Park on Poplar Avenue! \nWe invite you to come and share the love of Jesus with the homeless and anyone else who may be there.  The great commission compels us to go and make disciples\, and the often-forgotten homeless need Jesus just as much as the rest of us. \nSee Giovanni or Chelsea for more information!
URL:https://calvarychapelbartlett.com/event/homeless-outreach-ministry-13/2026-07-05/
LOCATION:Morris Park\, 747 Poplar Ave\, Memphis\, TN\, 38105\, United States
CATEGORIES:Outreach Ministry
END:VEVENT
BEGIN:VEVENT
DTSTART;TZID=America/Chicago:20260705T183000
DTEND;TZID=America/Chicago:20260705T200000
DTSTAMP:20260422T163326
CREATED:20250105T063412Z
LAST-MODIFIED:20260405T145419Z
UID:10002208-1783276200-1783281600@calvarychapelbartlett.com
SUMMARY:Sunday Evening Prayer Service
DESCRIPTION:Come fellowship with us! \nWe are gathering to worship the Lord\, study His Word\, and go to Him in prayer! Come seek His face and grow in the grace and knowledge of our Lord and Savior Jesus Christ. \nThere is currently no childcare provided for Sunday evening services.
URL:https://calvarychapelbartlett.com/event/sunday-evening-prayer-service-235/2026-07-05/
LOCATION:Calvary Chapel Bartlett\, 8587 Memphis Arlington Rd.\, Bartlett\, TN\, 38133\, United States
CATEGORIES:Weekly Services
END:VEVENT
BEGIN:VEVENT
DTSTART;TZID=America/Chicago:20260708T190000
DTEND;TZID=America/Chicago:20260708T203000
DTSTAMP:20260422T163326
CREATED:20250312T235619Z
LAST-MODIFIED:20250330T155209Z
UID:10002460-1783537200-1783542600@calvarychapelbartlett.com
SUMMARY:Wednesday Evening Service
DESCRIPTION:Come fellowship with us! \nWe are gathering together to worship the Lord and study His Word! Come seek His face and grow in the grace and knowledge of our Lord and Savior Jesus Christ. \nFor anyone unable to attend the service in person\, we continue to livestream every Sunday morning and Wednesday night on our Live page.
URL:https://calvarychapelbartlett.com/event/wednesday-evening-service-257/2026-07-08/
LOCATION:Calvary Chapel Bartlett\, 8587 Memphis Arlington Rd.\, Bartlett\, TN\, 38133\, United States
CATEGORIES:Weekly Services
END:VEVENT
BEGIN:VEVENT
DTSTART;TZID=America/Chicago:20260711T083000
DTEND;TZID=America/Chicago:20260711T100000
DTSTAMP:20260422T163326
CREATED:20250109T005909Z
LAST-MODIFIED:20260104T165522Z
UID:10002661-1783758600-1783764000@calvarychapelbartlett.com
SUMMARY:Men's Prayer Breakfast
DESCRIPTION:Come fellowship with the men of Calvary Chapel Bartlett for our monthly Men’s Prayer Breakfast! \nWe will spend time in the Word of God\, join together in prayer\, and enjoy a FREE breakfast!
URL:https://calvarychapelbartlett.com/event/mens-prayer-breakfast-56/2026-07-11/
LOCATION:Calvary Chapel Bartlett\, 8587 Memphis Arlington Rd.\, Bartlett\, TN\, 38133\, United States
CATEGORIES:Men's Ministry
END:VEVENT
BEGIN:VEVENT
DTSTART;TZID=America/Chicago:20260712T100000
DTEND;TZID=America/Chicago:20260712T113000
DTSTAMP:20260422T163326
CREATED:20250105T062157Z
LAST-MODIFIED:20250330T154922Z
UID:10001949-1783850400-1783855800@calvarychapelbartlett.com
SUMMARY:Sunday Morning Service
DESCRIPTION:Come fellowship with us! \nWe are gathering together to worship the Lord and study His Word! Come seek His face and grow in the grace and knowledge of our Lord and Savior Jesus Christ. \nFor anyone unable to attend the service in person\, we continue to livestream every Sunday morning and Wednesday night on our Live page.
URL:https://calvarychapelbartlett.com/event/sunday-morning-service-247/2026-07-12/
LOCATION:Calvary Chapel Bartlett\, 8587 Memphis Arlington Rd.\, Bartlett\, TN\, 38133\, United States
CATEGORIES:Weekly Services
END:VEVENT
BEGIN:VEVENT
DTSTART;TZID=America/Chicago:20260712T183000
DTEND;TZID=America/Chicago:20260712T200000
DTSTAMP:20260422T163326
CREATED:20250105T063412Z
LAST-MODIFIED:20260405T145419Z
UID:10002209-1783881000-1783886400@calvarychapelbartlett.com
SUMMARY:Sunday Evening Prayer Service
DESCRIPTION:Come fellowship with us! \nWe are gathering to worship the Lord\, study His Word\, and go to Him in prayer! Come seek His face and grow in the grace and knowledge of our Lord and Savior Jesus Christ. \nThere is currently no childcare provided for Sunday evening services.
URL:https://calvarychapelbartlett.com/event/sunday-evening-prayer-service-235/2026-07-12/
LOCATION:Calvary Chapel Bartlett\, 8587 Memphis Arlington Rd.\, Bartlett\, TN\, 38133\, United States
CATEGORIES:Weekly Services
END:VEVENT
BEGIN:VEVENT
DTSTART;TZID=America/Chicago:20260715T190000
DTEND;TZID=America/Chicago:20260715T203000
DTSTAMP:20260422T163326
CREATED:20250312T235619Z
LAST-MODIFIED:20250330T155209Z
UID:10002461-1784142000-1784147400@calvarychapelbartlett.com
SUMMARY:Wednesday Evening Service
DESCRIPTION:Come fellowship with us! \nWe are gathering together to worship the Lord and study His Word! Come seek His face and grow in the grace and knowledge of our Lord and Savior Jesus Christ. \nFor anyone unable to attend the service in person\, we continue to livestream every Sunday morning and Wednesday night on our Live page.
URL:https://calvarychapelbartlett.com/event/wednesday-evening-service-257/2026-07-15/
LOCATION:Calvary Chapel Bartlett\, 8587 Memphis Arlington Rd.\, Bartlett\, TN\, 38133\, United States
CATEGORIES:Weekly Services
END:VEVENT
BEGIN:VEVENT
DTSTART;TZID=America/Chicago:20260717T180000
DTEND;TZID=America/Chicago:20260717T210000
DTSTAMP:20260422T163326
CREATED:20250130T011616Z
LAST-MODIFIED:20251102T170227Z
UID:10003049-1784311200-1784322000@calvarychapelbartlett.com
SUMMARY:Young Adult Group Fellowship
DESCRIPTION:Come for fellowship\, food\, and discussion! \n  \nThe Young Adults ministry is open to all ages 18-30.
URL:https://calvarychapelbartlett.com/event/young-adult-group-fellowship-12/2026-07-17/
LOCATION:Calvary Chapel Bartlett\, 8587 Memphis Arlington Rd.\, Bartlett\, TN\, 38133\, United States
CATEGORIES:Young Adults
END:VEVENT
BEGIN:VEVENT
DTSTART;TZID=America/Chicago:20260719T100000
DTEND;TZID=America/Chicago:20260719T113000
DTSTAMP:20260422T163326
CREATED:20250105T062157Z
LAST-MODIFIED:20250330T154922Z
UID:10001950-1784455200-1784460600@calvarychapelbartlett.com
SUMMARY:Sunday Morning Service
DESCRIPTION:Come fellowship with us! \nWe are gathering together to worship the Lord and study His Word! Come seek His face and grow in the grace and knowledge of our Lord and Savior Jesus Christ. \nFor anyone unable to attend the service in person\, we continue to livestream every Sunday morning and Wednesday night on our Live page.
URL:https://calvarychapelbartlett.com/event/sunday-morning-service-247/2026-07-19/
LOCATION:Calvary Chapel Bartlett\, 8587 Memphis Arlington Rd.\, Bartlett\, TN\, 38133\, United States
CATEGORIES:Weekly Services
END:VEVENT
BEGIN:VEVENT
DTSTART;TZID=America/Chicago:20260719T183000
DTEND;TZID=America/Chicago:20260719T200000
DTSTAMP:20260422T163326
CREATED:20250105T063412Z
LAST-MODIFIED:20260405T145419Z
UID:10002210-1784485800-1784491200@calvarychapelbartlett.com
SUMMARY:Sunday Evening Prayer Service
DESCRIPTION:Come fellowship with us! \nWe are gathering to worship the Lord\, study His Word\, and go to Him in prayer! Come seek His face and grow in the grace and knowledge of our Lord and Savior Jesus Christ. \nThere is currently no childcare provided for Sunday evening services.
URL:https://calvarychapelbartlett.com/event/sunday-evening-prayer-service-235/2026-07-19/
LOCATION:Calvary Chapel Bartlett\, 8587 Memphis Arlington Rd.\, Bartlett\, TN\, 38133\, United States
CATEGORIES:Weekly Services
END:VEVENT
BEGIN:VEVENT
DTSTART;TZID=America/Chicago:20260722T190000
DTEND;TZID=America/Chicago:20260722T203000
DTSTAMP:20260422T163326
CREATED:20250312T235619Z
LAST-MODIFIED:20250330T155209Z
UID:10002462-1784746800-1784752200@calvarychapelbartlett.com
SUMMARY:Wednesday Evening Service
DESCRIPTION:Come fellowship with us! \nWe are gathering together to worship the Lord and study His Word! Come seek His face and grow in the grace and knowledge of our Lord and Savior Jesus Christ. \nFor anyone unable to attend the service in person\, we continue to livestream every Sunday morning and Wednesday night on our Live page.
URL:https://calvarychapelbartlett.com/event/wednesday-evening-service-257/2026-07-22/
LOCATION:Calvary Chapel Bartlett\, 8587 Memphis Arlington Rd.\, Bartlett\, TN\, 38133\, United States
CATEGORIES:Weekly Services
END:VEVENT
BEGIN:VEVENT
DTSTART;TZID=America/Chicago:20260726T100000
DTEND;TZID=America/Chicago:20260726T113000
DTSTAMP:20260422T163326
CREATED:20250105T062157Z
LAST-MODIFIED:20250330T154922Z
UID:10001951-1785060000-1785065400@calvarychapelbartlett.com
SUMMARY:Sunday Morning Service
DESCRIPTION:Come fellowship with us! \nWe are gathering together to worship the Lord and study His Word! Come seek His face and grow in the grace and knowledge of our Lord and Savior Jesus Christ. \nFor anyone unable to attend the service in person\, we continue to livestream every Sunday morning and Wednesday night on our Live page.
URL:https://calvarychapelbartlett.com/event/sunday-morning-service-247/2026-07-26/
LOCATION:Calvary Chapel Bartlett\, 8587 Memphis Arlington Rd.\, Bartlett\, TN\, 38133\, United States
CATEGORIES:Weekly Services
END:VEVENT
BEGIN:VEVENT
DTSTART;TZID=America/Chicago:20260726T183000
DTEND;TZID=America/Chicago:20260726T200000
DTSTAMP:20260422T163326
CREATED:20250105T063412Z
LAST-MODIFIED:20260405T145419Z
UID:10002211-1785090600-1785096000@calvarychapelbartlett.com
SUMMARY:Sunday Evening Prayer Service
DESCRIPTION:Come fellowship with us! \nWe are gathering to worship the Lord\, study His Word\, and go to Him in prayer! Come seek His face and grow in the grace and knowledge of our Lord and Savior Jesus Christ. \nThere is currently no childcare provided for Sunday evening services.
URL:https://calvarychapelbartlett.com/event/sunday-evening-prayer-service-235/2026-07-26/
LOCATION:Calvary Chapel Bartlett\, 8587 Memphis Arlington Rd.\, Bartlett\, TN\, 38133\, United States
CATEGORIES:Weekly Services
END:VEVENT
BEGIN:VEVENT
DTSTART;TZID=America/Chicago:20260729T190000
DTEND;TZID=America/Chicago:20260729T203000
DTSTAMP:20260422T163326
CREATED:20250312T235619Z
LAST-MODIFIED:20250330T155209Z
UID:10002463-1785351600-1785357000@calvarychapelbartlett.com
SUMMARY:Wednesday Evening Service
DESCRIPTION:Come fellowship with us! \nWe are gathering together to worship the Lord and study His Word! Come seek His face and grow in the grace and knowledge of our Lord and Savior Jesus Christ. \nFor anyone unable to attend the service in person\, we continue to livestream every Sunday morning and Wednesday night on our Live page.
URL:https://calvarychapelbartlett.com/event/wednesday-evening-service-257/2026-07-29/
LOCATION:Calvary Chapel Bartlett\, 8587 Memphis Arlington Rd.\, Bartlett\, TN\, 38133\, United States
CATEGORIES:Weekly Services
END:VEVENT
BEGIN:VEVENT
DTSTART;TZID=America/Chicago:20260802T100000
DTEND;TZID=America/Chicago:20260802T113000
DTSTAMP:20260422T163326
CREATED:20250105T062157Z
LAST-MODIFIED:20250330T154922Z
UID:10001952-1785664800-1785670200@calvarychapelbartlett.com
SUMMARY:Sunday Morning Service
DESCRIPTION:Come fellowship with us! \nWe are gathering together to worship the Lord and study His Word! Come seek His face and grow in the grace and knowledge of our Lord and Savior Jesus Christ. \nFor anyone unable to attend the service in person\, we continue to livestream every Sunday morning and Wednesday night on our Live page.
URL:https://calvarychapelbartlett.com/event/sunday-morning-service-247/2026-08-02/
LOCATION:Calvary Chapel Bartlett\, 8587 Memphis Arlington Rd.\, Bartlett\, TN\, 38133\, United States
CATEGORIES:Weekly Services
END:VEVENT
BEGIN:VEVENT
DTSTART;TZID=America/Chicago:20260802T130000
DTEND;TZID=America/Chicago:20260802T170000
DTSTAMP:20260422T163326
CREATED:20241208T164428Z
LAST-MODIFIED:20260104T165608Z
UID:10002714-1785675600-1785690000@calvarychapelbartlett.com
SUMMARY:Homeless Outreach Ministry
DESCRIPTION:Our outreach ministry is meeting at Morris Park on Poplar Avenue! \nWe invite you to come and share the love of Jesus with the homeless and anyone else who may be there.  The great commission compels us to go and make disciples\, and the often-forgotten homeless need Jesus just as much as the rest of us. \nSee Giovanni or Chelsea for more information!
URL:https://calvarychapelbartlett.com/event/homeless-outreach-ministry-13/2026-08-02/
LOCATION:Morris Park\, 747 Poplar Ave\, Memphis\, TN\, 38105\, United States
CATEGORIES:Outreach Ministry
END:VEVENT
BEGIN:VEVENT
DTSTART;TZID=America/Chicago:20260802T183000
DTEND;TZID=America/Chicago:20260802T200000
DTSTAMP:20260422T163326
CREATED:20250105T063412Z
LAST-MODIFIED:20260405T145419Z
UID:10002212-1785695400-1785700800@calvarychapelbartlett.com
SUMMARY:Sunday Evening Prayer Service
DESCRIPTION:Come fellowship with us! \nWe are gathering to worship the Lord\, study His Word\, and go to Him in prayer! Come seek His face and grow in the grace and knowledge of our Lord and Savior Jesus Christ. \nThere is currently no childcare provided for Sunday evening services.
URL:https://calvarychapelbartlett.com/event/sunday-evening-prayer-service-235/2026-08-02/
LOCATION:Calvary Chapel Bartlett\, 8587 Memphis Arlington Rd.\, Bartlett\, TN\, 38133\, United States
CATEGORIES:Weekly Services
END:VEVENT
BEGIN:VEVENT
DTSTART;TZID=America/Chicago:20260805T190000
DTEND;TZID=America/Chicago:20260805T203000
DTSTAMP:20260422T163326
CREATED:20250312T235619Z
LAST-MODIFIED:20250330T155209Z
UID:10002464-1785956400-1785961800@calvarychapelbartlett.com
SUMMARY:Wednesday Evening Service
DESCRIPTION:Come fellowship with us! \nWe are gathering together to worship the Lord and study His Word! Come seek His face and grow in the grace and knowledge of our Lord and Savior Jesus Christ. \nFor anyone unable to attend the service in person\, we continue to livestream every Sunday morning and Wednesday night on our Live page.
URL:https://calvarychapelbartlett.com/event/wednesday-evening-service-257/2026-08-05/
LOCATION:Calvary Chapel Bartlett\, 8587 Memphis Arlington Rd.\, Bartlett\, TN\, 38133\, United States
CATEGORIES:Weekly Services
END:VEVENT
BEGIN:VEVENT
DTSTART;TZID=America/Chicago:20260807T180000
DTEND;TZID=America/Chicago:20260807T210000
DTSTAMP:20260422T163326
CREATED:20250130T011538Z
LAST-MODIFIED:20251102T170131Z
UID:10002985-1786125600-1786136400@calvarychapelbartlett.com
SUMMARY:Young Adult Group Fellowship
DESCRIPTION:Come for fellowship\, food\, and discussion! \n  \nThe Young Adults ministry is open to all ages 18-30.
URL:https://calvarychapelbartlett.com/event/young-adult-group-fellowship-11/2026-08-07/
LOCATION:Calvary Chapel Bartlett\, 8587 Memphis Arlington Rd.\, Bartlett\, TN\, 38133\, United States
CATEGORIES:Young Adults
END:VEVENT
BEGIN:VEVENT
DTSTART;TZID=America/Chicago:20260808T083000
DTEND;TZID=America/Chicago:20260808T100000
DTSTAMP:20260422T163326
CREATED:20250109T005909Z
LAST-MODIFIED:20260104T165522Z
UID:10002662-1786177800-1786183200@calvarychapelbartlett.com
SUMMARY:Men's Prayer Breakfast
DESCRIPTION:Come fellowship with the men of Calvary Chapel Bartlett for our monthly Men’s Prayer Breakfast! \nWe will spend time in the Word of God\, join together in prayer\, and enjoy a FREE breakfast!
URL:https://calvarychapelbartlett.com/event/mens-prayer-breakfast-56/2026-08-08/
LOCATION:Calvary Chapel Bartlett\, 8587 Memphis Arlington Rd.\, Bartlett\, TN\, 38133\, United States
CATEGORIES:Men's Ministry
END:VEVENT
BEGIN:VEVENT
DTSTART;TZID=America/Chicago:20260809T100000
DTEND;TZID=America/Chicago:20260809T113000
DTSTAMP:20260422T163326
CREATED:20250105T062157Z
LAST-MODIFIED:20250330T154922Z
UID:10001953-1786269600-1786275000@calvarychapelbartlett.com
SUMMARY:Sunday Morning Service
DESCRIPTION:Come fellowship with us! \nWe are gathering together to worship the Lord and study His Word! Come seek His face and grow in the grace and knowledge of our Lord and Savior Jesus Christ. \nFor anyone unable to attend the service in person\, we continue to livestream every Sunday morning and Wednesday night on our Live page.
URL:https://calvarychapelbartlett.com/event/sunday-morning-service-247/2026-08-09/
LOCATION:Calvary Chapel Bartlett\, 8587 Memphis Arlington Rd.\, Bartlett\, TN\, 38133\, United States
CATEGORIES:Weekly Services
END:VEVENT
BEGIN:VEVENT
DTSTART;TZID=America/Chicago:20260809T183000
DTEND;TZID=America/Chicago:20260809T200000
DTSTAMP:20260422T163326
CREATED:20250105T063412Z
LAST-MODIFIED:20260405T145419Z
UID:10002213-1786300200-1786305600@calvarychapelbartlett.com
SUMMARY:Sunday Evening Prayer Service
DESCRIPTION:Come fellowship with us! \nWe are gathering to worship the Lord\, study His Word\, and go to Him in prayer! Come seek His face and grow in the grace and knowledge of our Lord and Savior Jesus Christ. \nThere is currently no childcare provided for Sunday evening services.
URL:https://calvarychapelbartlett.com/event/sunday-evening-prayer-service-235/2026-08-09/
LOCATION:Calvary Chapel Bartlett\, 8587 Memphis Arlington Rd.\, Bartlett\, TN\, 38133\, United States
CATEGORIES:Weekly Services
END:VEVENT
BEGIN:VEVENT
DTSTART;TZID=America/Chicago:20260812T190000
DTEND;TZID=America/Chicago:20260812T203000
DTSTAMP:20260422T163326
CREATED:20250312T235619Z
LAST-MODIFIED:20250330T155209Z
UID:10002465-1786561200-1786566600@calvarychapelbartlett.com
SUMMARY:Wednesday Evening Service
DESCRIPTION:Come fellowship with us! \nWe are gathering together to worship the Lord and study His Word! Come seek His face and grow in the grace and knowledge of our Lord and Savior Jesus Christ. \nFor anyone unable to attend the service in person\, we continue to livestream every Sunday morning and Wednesday night on our Live page.
URL:https://calvarychapelbartlett.com/event/wednesday-evening-service-257/2026-08-12/
LOCATION:Calvary Chapel Bartlett\, 8587 Memphis Arlington Rd.\, Bartlett\, TN\, 38133\, United States
CATEGORIES:Weekly Services
END:VEVENT
BEGIN:VEVENT
DTSTART;TZID=America/Chicago:20260816T100000
DTEND;TZID=America/Chicago:20260816T113000
DTSTAMP:20260422T163326
CREATED:20250105T062157Z
LAST-MODIFIED:20250330T154922Z
UID:10001954-1786874400-1786879800@calvarychapelbartlett.com
SUMMARY:Sunday Morning Service
DESCRIPTION:Come fellowship with us! \nWe are gathering together to worship the Lord and study His Word! Come seek His face and grow in the grace and knowledge of our Lord and Savior Jesus Christ. \nFor anyone unable to attend the service in person\, we continue to livestream every Sunday morning and Wednesday night on our Live page.
URL:https://calvarychapelbartlett.com/event/sunday-morning-service-247/2026-08-16/
LOCATION:Calvary Chapel Bartlett\, 8587 Memphis Arlington Rd.\, Bartlett\, TN\, 38133\, United States
CATEGORIES:Weekly Services
END:VEVENT
BEGIN:VEVENT
DTSTART;TZID=America/Chicago:20260816T183000
DTEND;TZID=America/Chicago:20260816T200000
DTSTAMP:20260422T163326
CREATED:20250105T063412Z
LAST-MODIFIED:20260405T145419Z
UID:10002214-1786905000-1786910400@calvarychapelbartlett.com
SUMMARY:Sunday Evening Prayer Service
DESCRIPTION:Come fellowship with us! \nWe are gathering to worship the Lord\, study His Word\, and go to Him in prayer! Come seek His face and grow in the grace and knowledge of our Lord and Savior Jesus Christ. \nThere is currently no childcare provided for Sunday evening services.
URL:https://calvarychapelbartlett.com/event/sunday-evening-prayer-service-235/2026-08-16/
LOCATION:Calvary Chapel Bartlett\, 8587 Memphis Arlington Rd.\, Bartlett\, TN\, 38133\, United States
CATEGORIES:Weekly Services
END:VEVENT
BEGIN:VEVENT
DTSTART;TZID=America/Chicago:20260819T190000
DTEND;TZID=America/Chicago:20260819T203000
DTSTAMP:20260422T163326
CREATED:20250312T235619Z
LAST-MODIFIED:20250330T155209Z
UID:10002466-1787166000-1787171400@calvarychapelbartlett.com
SUMMARY:Wednesday Evening Service
DESCRIPTION:Come fellowship with us! \nWe are gathering together to worship the Lord and study His Word! Come seek His face and grow in the grace and knowledge of our Lord and Savior Jesus Christ. \nFor anyone unable to attend the service in person\, we continue to livestream every Sunday morning and Wednesday night on our Live page.
URL:https://calvarychapelbartlett.com/event/wednesday-evening-service-257/2026-08-19/
LOCATION:Calvary Chapel Bartlett\, 8587 Memphis Arlington Rd.\, Bartlett\, TN\, 38133\, United States
CATEGORIES:Weekly Services
END:VEVENT
BEGIN:VEVENT
DTSTART;TZID=America/Chicago:20260821T180000
DTEND;TZID=America/Chicago:20260821T210000
DTSTAMP:20260422T163326
CREATED:20250130T011616Z
LAST-MODIFIED:20251102T170227Z
UID:10003050-1787335200-1787346000@calvarychapelbartlett.com
SUMMARY:Young Adult Group Fellowship
DESCRIPTION:Come for fellowship\, food\, and discussion! \n  \nThe Young Adults ministry is open to all ages 18-30.
URL:https://calvarychapelbartlett.com/event/young-adult-group-fellowship-12/2026-08-21/
LOCATION:Calvary Chapel Bartlett\, 8587 Memphis Arlington Rd.\, Bartlett\, TN\, 38133\, United States
CATEGORIES:Young Adults
END:VEVENT
BEGIN:VEVENT
DTSTART;TZID=America/Chicago:20260823T100000
DTEND;TZID=America/Chicago:20260823T113000
DTSTAMP:20260422T163326
CREATED:20250105T062157Z
LAST-MODIFIED:20250330T154922Z
UID:10001955-1787479200-1787484600@calvarychapelbartlett.com
SUMMARY:Sunday Morning Service
DESCRIPTION:Come fellowship with us! \nWe are gathering together to worship the Lord and study His Word! Come seek His face and grow in the grace and knowledge of our Lord and Savior Jesus Christ. \nFor anyone unable to attend the service in person\, we continue to livestream every Sunday morning and Wednesday night on our Live page.
URL:https://calvarychapelbartlett.com/event/sunday-morning-service-247/2026-08-23/
LOCATION:Calvary Chapel Bartlett\, 8587 Memphis Arlington Rd.\, Bartlett\, TN\, 38133\, United States
CATEGORIES:Weekly Services
END:VEVENT
BEGIN:VEVENT
DTSTART;TZID=America/Chicago:20260823T183000
DTEND;TZID=America/Chicago:20260823T200000
DTSTAMP:20260422T163326
CREATED:20250105T063412Z
LAST-MODIFIED:20260405T145419Z
UID:10002215-1787509800-1787515200@calvarychapelbartlett.com
SUMMARY:Sunday Evening Prayer Service
DESCRIPTION:Come fellowship with us! \nWe are gathering to worship the Lord\, study His Word\, and go to Him in prayer! Come seek His face and grow in the grace and knowledge of our Lord and Savior Jesus Christ. \nThere is currently no childcare provided for Sunday evening services.
URL:https://calvarychapelbartlett.com/event/sunday-evening-prayer-service-235/2026-08-23/
LOCATION:Calvary Chapel Bartlett\, 8587 Memphis Arlington Rd.\, Bartlett\, TN\, 38133\, United States
CATEGORIES:Weekly Services
END:VEVENT
BEGIN:VEVENT
DTSTART;TZID=America/Chicago:20260826T190000
DTEND;TZID=America/Chicago:20260826T203000
DTSTAMP:20260422T163326
CREATED:20250312T235619Z
LAST-MODIFIED:20250330T155209Z
UID:10002467-1787770800-1787776200@calvarychapelbartlett.com
SUMMARY:Wednesday Evening Service
DESCRIPTION:Come fellowship with us! \nWe are gathering together to worship the Lord and study His Word! Come seek His face and grow in the grace and knowledge of our Lord and Savior Jesus Christ. \nFor anyone unable to attend the service in person\, we continue to livestream every Sunday morning and Wednesday night on our Live page.
URL:https://calvarychapelbartlett.com/event/wednesday-evening-service-257/2026-08-26/
LOCATION:Calvary Chapel Bartlett\, 8587 Memphis Arlington Rd.\, Bartlett\, TN\, 38133\, United States
CATEGORIES:Weekly Services
END:VEVENT
END:VCALENDAR