BEGIN:VCALENDAR
VERSION:2.0
PRODID:-//Calvary Chapel Bartlett - ECPv6.15.20//NONSGML v1.0//EN
CALSCALE:GREGORIAN
METHOD:PUBLISH
X-ORIGINAL-URL:https://calvarychapelbartlett.com
X-WR-CALDESC:Events for Calvary Chapel Bartlett
REFRESH-INTERVAL;VALUE=DURATION:PT1H
X-Robots-Tag:noindex
X-PUBLISHED-TTL:PT1H
BEGIN:VTIMEZONE
TZID:America/Chicago
BEGIN:DAYLIGHT
TZOFFSETFROM:-0600
TZOFFSETTO:-0500
TZNAME:CDT
DTSTART:20250309T080000
END:DAYLIGHT
BEGIN:STANDARD
TZOFFSETFROM:-0500
TZOFFSETTO:-0600
TZNAME:CST
DTSTART:20251102T070000
END:STANDARD
BEGIN:DAYLIGHT
TZOFFSETFROM:-0600
TZOFFSETTO:-0500
TZNAME:CDT
DTSTART:20260308T080000
END:DAYLIGHT
BEGIN:STANDARD
TZOFFSETFROM:-0500
TZOFFSETTO:-0600
TZNAME:CST
DTSTART:20261101T070000
END:STANDARD
BEGIN:DAYLIGHT
TZOFFSETFROM:-0600
TZOFFSETTO:-0500
TZNAME:CDT
DTSTART:20270314T080000
END:DAYLIGHT
BEGIN:STANDARD
TZOFFSETFROM:-0500
TZOFFSETTO:-0600
TZNAME:CST
DTSTART:20271107T070000
END:STANDARD
END:VTIMEZONE
BEGIN:VEVENT
DTSTART;TZID=America/Chicago:20260225T190000
DTEND;TZID=America/Chicago:20260225T203000
DTSTAMP:20260422T040131
CREATED:20250312T235619Z
LAST-MODIFIED:20250330T155209Z
UID:10002441-1772046000-1772051400@calvarychapelbartlett.com
SUMMARY:Wednesday Evening Service
DESCRIPTION:Come fellowship with us! \nWe are gathering together to worship the Lord and study His Word! Come seek His face and grow in the grace and knowledge of our Lord and Savior Jesus Christ. \nFor anyone unable to attend the service in person\, we continue to livestream every Sunday morning and Wednesday night on our Live page.
URL:https://calvarychapelbartlett.com/event/wednesday-evening-service-257/2026-02-25/
LOCATION:Calvary Chapel Bartlett\, 8587 Memphis Arlington Rd.\, Bartlett\, TN\, 38133\, United States
CATEGORIES:Weekly Services
END:VEVENT
BEGIN:VEVENT
DTSTART;TZID=America/Chicago:20260301T100000
DTEND;TZID=America/Chicago:20260301T113000
DTSTAMP:20260422T040131
CREATED:20250105T062157Z
LAST-MODIFIED:20250330T154922Z
UID:10001930-1772359200-1772364600@calvarychapelbartlett.com
SUMMARY:Sunday Morning Service
DESCRIPTION:Come fellowship with us! \nWe are gathering together to worship the Lord and study His Word! Come seek His face and grow in the grace and knowledge of our Lord and Savior Jesus Christ. \nFor anyone unable to attend the service in person\, we continue to livestream every Sunday morning and Wednesday night on our Live page.
URL:https://calvarychapelbartlett.com/event/sunday-morning-service-247/2026-03-01/
LOCATION:Calvary Chapel Bartlett\, 8587 Memphis Arlington Rd.\, Bartlett\, TN\, 38133\, United States
CATEGORIES:Weekly Services
END:VEVENT
BEGIN:VEVENT
DTSTART;TZID=America/Chicago:20260301T130000
DTEND;TZID=America/Chicago:20260301T170000
DTSTAMP:20260422T040131
CREATED:20241208T164428Z
LAST-MODIFIED:20260104T165608Z
UID:10002709-1772370000-1772384400@calvarychapelbartlett.com
SUMMARY:Homeless Outreach Ministry
DESCRIPTION:Our outreach ministry is meeting at Morris Park on Poplar Avenue! \nWe invite you to come and share the love of Jesus with the homeless and anyone else who may be there.  The great commission compels us to go and make disciples\, and the often-forgotten homeless need Jesus just as much as the rest of us. \nSee Giovanni or Chelsea for more information!
URL:https://calvarychapelbartlett.com/event/homeless-outreach-ministry-13/2026-03-01/
LOCATION:Morris Park\, 747 Poplar Ave\, Memphis\, TN\, 38105\, United States
CATEGORIES:Outreach Ministry
END:VEVENT
BEGIN:VEVENT
DTSTART;TZID=America/Chicago:20260301T183000
DTEND;TZID=America/Chicago:20260301T200000
DTSTAMP:20260422T040131
CREATED:20250105T063412Z
LAST-MODIFIED:20260405T145419Z
UID:10003266-1772389800-1772395200@calvarychapelbartlett.com
SUMMARY:Sunday Evening Prayer Service
DESCRIPTION:Come fellowship with us! \nWe are gathering to worship the Lord\, study His Word\, and go to Him in prayer! Come seek His face and grow in the grace and knowledge of our Lord and Savior Jesus Christ. \nThere is currently no childcare provided for Sunday evening services.
URL:https://calvarychapelbartlett.com/event/sunday-evening-prayer-service-235/2026-03-01/
LOCATION:Calvary Chapel Bartlett\, 8587 Memphis Arlington Rd.\, Bartlett\, TN\, 38133\, United States
CATEGORIES:Weekly Services
END:VEVENT
BEGIN:VEVENT
DTSTART;TZID=America/Chicago:20260303T093000
DTEND;TZID=America/Chicago:20260303T110000
DTSTAMP:20260422T040131
CREATED:20250803T150852Z
LAST-MODIFIED:20260125T223009Z
UID:10002920-1772530200-1772535600@calvarychapelbartlett.com
SUMMARY:Women's Bible Study - Morning Session
DESCRIPTION:Join us for our Women’s Bible Study\, following the life of Moses!\n\nMOSES: FIRE – WATER – STONE\n  \nChildcare is provided for morning sessions \n  \nThe cost is $25 for materials \n  \nBy faith Moses\, when he became of age\, refused to be called the son of Pharaoh’s daughter\, choosing rather to suffer affliction with the people of God than to enjoy the passing pleasures of sin\, esteeming the reproach of Christ far greater riches than the treasures in Egypt; for he looked to the reward. Hebrews 11:24-26 \n  \nCLICK HERE TO SIGN UP!
URL:https://calvarychapelbartlett.com/event/womens-bible-study-morning-session/2026-03-03/
LOCATION:Calvary Chapel Bartlett\, 8587 Memphis Arlington Rd.\, Bartlett\, TN\, 38133\, United States
CATEGORIES:Women's Ministry
END:VEVENT
BEGIN:VEVENT
DTSTART;TZID=America/Chicago:20260303T190000
DTEND;TZID=America/Chicago:20260303T203000
DTSTAMP:20260422T040131
CREATED:20250803T152503Z
LAST-MODIFIED:20260125T223230Z
UID:10002945-1772564400-1772569800@calvarychapelbartlett.com
SUMMARY:Women's Bible Study - Evening Session
DESCRIPTION:Join us for our Women’s Bible Study\, following the life of Moses!\n\nMOSES: FIRE – WATER – STONE\n  \nChildcare is NOT provided for evening sessions \n  \nThe cost is $25 for materials \n  \nBy faith Moses\, when he became of age\, refused to be called the son of Pharaoh’s daughter\, choosing rather to suffer affliction with the people of God than to enjoy the passing pleasures of sin\, esteeming the reproach of Christ far greater riches than the treasures in Egypt; for he looked to the reward. Hebrews 11:24-26 \n  \nCLICK HERE TO SIGN UP!
URL:https://calvarychapelbartlett.com/event/womens-bible-study-evening-session/2026-03-03/
LOCATION:Calvary Chapel Bartlett\, 8587 Memphis Arlington Rd.\, Bartlett\, TN\, 38133\, United States
CATEGORIES:Women's Ministry
END:VEVENT
BEGIN:VEVENT
DTSTART;TZID=America/Chicago:20260304T190000
DTEND;TZID=America/Chicago:20260304T203000
DTSTAMP:20260422T040131
CREATED:20250312T235619Z
LAST-MODIFIED:20250330T155209Z
UID:10002442-1772650800-1772656200@calvarychapelbartlett.com
SUMMARY:Wednesday Evening Service
DESCRIPTION:Come fellowship with us! \nWe are gathering together to worship the Lord and study His Word! Come seek His face and grow in the grace and knowledge of our Lord and Savior Jesus Christ. \nFor anyone unable to attend the service in person\, we continue to livestream every Sunday morning and Wednesday night on our Live page.
URL:https://calvarychapelbartlett.com/event/wednesday-evening-service-257/2026-03-04/
LOCATION:Calvary Chapel Bartlett\, 8587 Memphis Arlington Rd.\, Bartlett\, TN\, 38133\, United States
CATEGORIES:Weekly Services
END:VEVENT
BEGIN:VEVENT
DTSTART;TZID=America/Chicago:20260306T180000
DTEND;TZID=America/Chicago:20260306T210000
DTSTAMP:20260422T040131
CREATED:20250130T011538Z
LAST-MODIFIED:20251102T170131Z
UID:10002980-1772820000-1772830800@calvarychapelbartlett.com
SUMMARY:Young Adult Group Fellowship
DESCRIPTION:Come for fellowship\, food\, and discussion! \n  \nThe Young Adults ministry is open to all ages 18-30.
URL:https://calvarychapelbartlett.com/event/young-adult-group-fellowship-11/2026-03-06/
LOCATION:Calvary Chapel Bartlett\, 8587 Memphis Arlington Rd.\, Bartlett\, TN\, 38133\, United States
CATEGORIES:Young Adults
END:VEVENT
BEGIN:VEVENT
DTSTART;TZID=America/Chicago:20260308T100000
DTEND;TZID=America/Chicago:20260308T113000
DTSTAMP:20260422T040131
CREATED:20250105T062157Z
LAST-MODIFIED:20250330T154922Z
UID:10001931-1772964000-1772969400@calvarychapelbartlett.com
SUMMARY:Sunday Morning Service
DESCRIPTION:Come fellowship with us! \nWe are gathering together to worship the Lord and study His Word! Come seek His face and grow in the grace and knowledge of our Lord and Savior Jesus Christ. \nFor anyone unable to attend the service in person\, we continue to livestream every Sunday morning and Wednesday night on our Live page.
URL:https://calvarychapelbartlett.com/event/sunday-morning-service-247/2026-03-08/
LOCATION:Calvary Chapel Bartlett\, 8587 Memphis Arlington Rd.\, Bartlett\, TN\, 38133\, United States
CATEGORIES:Weekly Services
END:VEVENT
BEGIN:VEVENT
DTSTART;TZID=America/Chicago:20260308T183000
DTEND;TZID=America/Chicago:20260308T200000
DTSTAMP:20260422T040131
CREATED:20250105T063412Z
LAST-MODIFIED:20260405T145419Z
UID:10003267-1772994600-1773000000@calvarychapelbartlett.com
SUMMARY:Sunday Evening Prayer Service
DESCRIPTION:Come fellowship with us! \nWe are gathering to worship the Lord\, study His Word\, and go to Him in prayer! Come seek His face and grow in the grace and knowledge of our Lord and Savior Jesus Christ. \nThere is currently no childcare provided for Sunday evening services.
URL:https://calvarychapelbartlett.com/event/sunday-evening-prayer-service-235/2026-03-08/
LOCATION:Calvary Chapel Bartlett\, 8587 Memphis Arlington Rd.\, Bartlett\, TN\, 38133\, United States
CATEGORIES:Weekly Services
END:VEVENT
BEGIN:VEVENT
DTSTART;TZID=America/Chicago:20260310T093000
DTEND;TZID=America/Chicago:20260310T110000
DTSTAMP:20260422T040131
CREATED:20250803T150852Z
LAST-MODIFIED:20260125T223009Z
UID:10002921-1773135000-1773140400@calvarychapelbartlett.com
SUMMARY:Women's Bible Study - Morning Session
DESCRIPTION:Join us for our Women’s Bible Study\, following the life of Moses!\n\nMOSES: FIRE – WATER – STONE\n  \nChildcare is provided for morning sessions \n  \nThe cost is $25 for materials \n  \nBy faith Moses\, when he became of age\, refused to be called the son of Pharaoh’s daughter\, choosing rather to suffer affliction with the people of God than to enjoy the passing pleasures of sin\, esteeming the reproach of Christ far greater riches than the treasures in Egypt; for he looked to the reward. Hebrews 11:24-26 \n  \nCLICK HERE TO SIGN UP!
URL:https://calvarychapelbartlett.com/event/womens-bible-study-morning-session/2026-03-10/
LOCATION:Calvary Chapel Bartlett\, 8587 Memphis Arlington Rd.\, Bartlett\, TN\, 38133\, United States
CATEGORIES:Women's Ministry
END:VEVENT
BEGIN:VEVENT
DTSTART;TZID=America/Chicago:20260310T190000
DTEND;TZID=America/Chicago:20260310T203000
DTSTAMP:20260422T040131
CREATED:20250803T152503Z
LAST-MODIFIED:20260125T223230Z
UID:10002946-1773169200-1773174600@calvarychapelbartlett.com
SUMMARY:Women's Bible Study - Evening Session
DESCRIPTION:Join us for our Women’s Bible Study\, following the life of Moses!\n\nMOSES: FIRE – WATER – STONE\n  \nChildcare is NOT provided for evening sessions \n  \nThe cost is $25 for materials \n  \nBy faith Moses\, when he became of age\, refused to be called the son of Pharaoh’s daughter\, choosing rather to suffer affliction with the people of God than to enjoy the passing pleasures of sin\, esteeming the reproach of Christ far greater riches than the treasures in Egypt; for he looked to the reward. Hebrews 11:24-26 \n  \nCLICK HERE TO SIGN UP!
URL:https://calvarychapelbartlett.com/event/womens-bible-study-evening-session/2026-03-10/
LOCATION:Calvary Chapel Bartlett\, 8587 Memphis Arlington Rd.\, Bartlett\, TN\, 38133\, United States
CATEGORIES:Women's Ministry
END:VEVENT
BEGIN:VEVENT
DTSTART;TZID=America/Chicago:20260311T190000
DTEND;TZID=America/Chicago:20260311T203000
DTSTAMP:20260422T040131
CREATED:20250312T235619Z
LAST-MODIFIED:20250330T155209Z
UID:10002443-1773255600-1773261000@calvarychapelbartlett.com
SUMMARY:Wednesday Evening Service
DESCRIPTION:Come fellowship with us! \nWe are gathering together to worship the Lord and study His Word! Come seek His face and grow in the grace and knowledge of our Lord and Savior Jesus Christ. \nFor anyone unable to attend the service in person\, we continue to livestream every Sunday morning and Wednesday night on our Live page.
URL:https://calvarychapelbartlett.com/event/wednesday-evening-service-257/2026-03-11/
LOCATION:Calvary Chapel Bartlett\, 8587 Memphis Arlington Rd.\, Bartlett\, TN\, 38133\, United States
CATEGORIES:Weekly Services
END:VEVENT
BEGIN:VEVENT
DTSTART;TZID=America/Chicago:20260314T083000
DTEND;TZID=America/Chicago:20260314T100000
DTSTAMP:20260422T040131
CREATED:20250109T005909Z
LAST-MODIFIED:20260104T165522Z
UID:10002657-1773477000-1773482400@calvarychapelbartlett.com
SUMMARY:Men's Prayer Breakfast
DESCRIPTION:Come fellowship with the men of Calvary Chapel Bartlett for our monthly Men’s Prayer Breakfast! \nWe will spend time in the Word of God\, join together in prayer\, and enjoy a FREE breakfast!
URL:https://calvarychapelbartlett.com/event/mens-prayer-breakfast-56/2026-03-14/
LOCATION:Calvary Chapel Bartlett\, 8587 Memphis Arlington Rd.\, Bartlett\, TN\, 38133\, United States
CATEGORIES:Men's Ministry
END:VEVENT
BEGIN:VEVENT
DTSTART;TZID=America/Chicago:20260315T100000
DTEND;TZID=America/Chicago:20260315T113000
DTSTAMP:20260422T040131
CREATED:20250105T062157Z
LAST-MODIFIED:20250330T154922Z
UID:10001932-1773568800-1773574200@calvarychapelbartlett.com
SUMMARY:Sunday Morning Service
DESCRIPTION:Come fellowship with us! \nWe are gathering together to worship the Lord and study His Word! Come seek His face and grow in the grace and knowledge of our Lord and Savior Jesus Christ. \nFor anyone unable to attend the service in person\, we continue to livestream every Sunday morning and Wednesday night on our Live page.
URL:https://calvarychapelbartlett.com/event/sunday-morning-service-247/2026-03-15/
LOCATION:Calvary Chapel Bartlett\, 8587 Memphis Arlington Rd.\, Bartlett\, TN\, 38133\, United States
CATEGORIES:Weekly Services
END:VEVENT
BEGIN:VEVENT
DTSTART;TZID=America/Chicago:20260315T183000
DTEND;TZID=America/Chicago:20260315T200000
DTSTAMP:20260422T040131
CREATED:20250105T063412Z
LAST-MODIFIED:20260405T145419Z
UID:10003268-1773599400-1773604800@calvarychapelbartlett.com
SUMMARY:Sunday Evening Prayer Service
DESCRIPTION:Come fellowship with us! \nWe are gathering to worship the Lord\, study His Word\, and go to Him in prayer! Come seek His face and grow in the grace and knowledge of our Lord and Savior Jesus Christ. \nThere is currently no childcare provided for Sunday evening services.
URL:https://calvarychapelbartlett.com/event/sunday-evening-prayer-service-235/2026-03-15/
LOCATION:Calvary Chapel Bartlett\, 8587 Memphis Arlington Rd.\, Bartlett\, TN\, 38133\, United States
CATEGORIES:Weekly Services
END:VEVENT
BEGIN:VEVENT
DTSTART;TZID=America/Chicago:20260317T093000
DTEND;TZID=America/Chicago:20260317T110000
DTSTAMP:20260422T040131
CREATED:20250803T150852Z
LAST-MODIFIED:20260125T223009Z
UID:10002922-1773739800-1773745200@calvarychapelbartlett.com
SUMMARY:Women's Bible Study - Morning Session
DESCRIPTION:Join us for our Women’s Bible Study\, following the life of Moses!\n\nMOSES: FIRE – WATER – STONE\n  \nChildcare is provided for morning sessions \n  \nThe cost is $25 for materials \n  \nBy faith Moses\, when he became of age\, refused to be called the son of Pharaoh’s daughter\, choosing rather to suffer affliction with the people of God than to enjoy the passing pleasures of sin\, esteeming the reproach of Christ far greater riches than the treasures in Egypt; for he looked to the reward. Hebrews 11:24-26 \n  \nCLICK HERE TO SIGN UP!
URL:https://calvarychapelbartlett.com/event/womens-bible-study-morning-session/2026-03-17/
LOCATION:Calvary Chapel Bartlett\, 8587 Memphis Arlington Rd.\, Bartlett\, TN\, 38133\, United States
CATEGORIES:Women's Ministry
END:VEVENT
BEGIN:VEVENT
DTSTART;TZID=America/Chicago:20260317T190000
DTEND;TZID=America/Chicago:20260317T203000
DTSTAMP:20260422T040131
CREATED:20250803T152503Z
LAST-MODIFIED:20260125T223230Z
UID:10002947-1773774000-1773779400@calvarychapelbartlett.com
SUMMARY:Women's Bible Study - Evening Session
DESCRIPTION:Join us for our Women’s Bible Study\, following the life of Moses!\n\nMOSES: FIRE – WATER – STONE\n  \nChildcare is NOT provided for evening sessions \n  \nThe cost is $25 for materials \n  \nBy faith Moses\, when he became of age\, refused to be called the son of Pharaoh’s daughter\, choosing rather to suffer affliction with the people of God than to enjoy the passing pleasures of sin\, esteeming the reproach of Christ far greater riches than the treasures in Egypt; for he looked to the reward. Hebrews 11:24-26 \n  \nCLICK HERE TO SIGN UP!
URL:https://calvarychapelbartlett.com/event/womens-bible-study-evening-session/2026-03-17/
LOCATION:Calvary Chapel Bartlett\, 8587 Memphis Arlington Rd.\, Bartlett\, TN\, 38133\, United States
CATEGORIES:Women's Ministry
END:VEVENT
BEGIN:VEVENT
DTSTART;TZID=America/Chicago:20260318T190000
DTEND;TZID=America/Chicago:20260318T203000
DTSTAMP:20260422T040131
CREATED:20250312T235619Z
LAST-MODIFIED:20250330T155209Z
UID:10002444-1773860400-1773865800@calvarychapelbartlett.com
SUMMARY:Wednesday Evening Service
DESCRIPTION:Come fellowship with us! \nWe are gathering together to worship the Lord and study His Word! Come seek His face and grow in the grace and knowledge of our Lord and Savior Jesus Christ. \nFor anyone unable to attend the service in person\, we continue to livestream every Sunday morning and Wednesday night on our Live page.
URL:https://calvarychapelbartlett.com/event/wednesday-evening-service-257/2026-03-18/
LOCATION:Calvary Chapel Bartlett\, 8587 Memphis Arlington Rd.\, Bartlett\, TN\, 38133\, United States
CATEGORIES:Weekly Services
END:VEVENT
BEGIN:VEVENT
DTSTART;TZID=America/Chicago:20260320T180000
DTEND;TZID=America/Chicago:20260320T210000
DTSTAMP:20260422T040131
CREATED:20250130T011616Z
LAST-MODIFIED:20251102T170227Z
UID:10003045-1774029600-1774040400@calvarychapelbartlett.com
SUMMARY:Young Adult Group Fellowship
DESCRIPTION:Come for fellowship\, food\, and discussion! \n  \nThe Young Adults ministry is open to all ages 18-30.
URL:https://calvarychapelbartlett.com/event/young-adult-group-fellowship-12/2026-03-20/
LOCATION:Calvary Chapel Bartlett\, 8587 Memphis Arlington Rd.\, Bartlett\, TN\, 38133\, United States
CATEGORIES:Young Adults
END:VEVENT
BEGIN:VEVENT
DTSTART;TZID=America/Chicago:20260322T100000
DTEND;TZID=America/Chicago:20260322T113000
DTSTAMP:20260422T040131
CREATED:20250105T062157Z
LAST-MODIFIED:20250330T154922Z
UID:10001933-1774173600-1774179000@calvarychapelbartlett.com
SUMMARY:Sunday Morning Service
DESCRIPTION:Come fellowship with us! \nWe are gathering together to worship the Lord and study His Word! Come seek His face and grow in the grace and knowledge of our Lord and Savior Jesus Christ. \nFor anyone unable to attend the service in person\, we continue to livestream every Sunday morning and Wednesday night on our Live page.
URL:https://calvarychapelbartlett.com/event/sunday-morning-service-247/2026-03-22/
LOCATION:Calvary Chapel Bartlett\, 8587 Memphis Arlington Rd.\, Bartlett\, TN\, 38133\, United States
CATEGORIES:Weekly Services
END:VEVENT
BEGIN:VEVENT
DTSTART;TZID=America/Chicago:20260322T180000
DTEND;TZID=America/Chicago:20260322T200000
DTSTAMP:20260422T040131
CREATED:20260301T160645Z
LAST-MODIFIED:20260301T160645Z
UID:10003162-1774202400-1774209600@calvarychapelbartlett.com
SUMMARY:Food Faith
DESCRIPTION:The church congregation is getting together for another “eating meeting” fellowship!   \nWe ask that you please consider bringing a main dish and side to share.   \nAll are welcome!
URL:https://calvarychapelbartlett.com/event/food-faith/
LOCATION:Calvary Chapel Bartlett\, 8587 Memphis Arlington Rd.\, Bartlett\, TN\, 38133\, United States
CATEGORIES:All-Church
END:VEVENT
BEGIN:VEVENT
DTSTART;TZID=America/Chicago:20260324T093000
DTEND;TZID=America/Chicago:20260324T110000
DTSTAMP:20260422T040131
CREATED:20250803T150852Z
LAST-MODIFIED:20260125T223009Z
UID:10002923-1774344600-1774350000@calvarychapelbartlett.com
SUMMARY:Women's Bible Study - Morning Session
DESCRIPTION:Join us for our Women’s Bible Study\, following the life of Moses!\n\nMOSES: FIRE – WATER – STONE\n  \nChildcare is provided for morning sessions \n  \nThe cost is $25 for materials \n  \nBy faith Moses\, when he became of age\, refused to be called the son of Pharaoh’s daughter\, choosing rather to suffer affliction with the people of God than to enjoy the passing pleasures of sin\, esteeming the reproach of Christ far greater riches than the treasures in Egypt; for he looked to the reward. Hebrews 11:24-26 \n  \nCLICK HERE TO SIGN UP!
URL:https://calvarychapelbartlett.com/event/womens-bible-study-morning-session/2026-03-24/
LOCATION:Calvary Chapel Bartlett\, 8587 Memphis Arlington Rd.\, Bartlett\, TN\, 38133\, United States
CATEGORIES:Women's Ministry
END:VEVENT
BEGIN:VEVENT
DTSTART;TZID=America/Chicago:20260324T190000
DTEND;TZID=America/Chicago:20260324T203000
DTSTAMP:20260422T040131
CREATED:20250803T152503Z
LAST-MODIFIED:20260125T223230Z
UID:10002948-1774378800-1774384200@calvarychapelbartlett.com
SUMMARY:Women's Bible Study - Evening Session
DESCRIPTION:Join us for our Women’s Bible Study\, following the life of Moses!\n\nMOSES: FIRE – WATER – STONE\n  \nChildcare is NOT provided for evening sessions \n  \nThe cost is $25 for materials \n  \nBy faith Moses\, when he became of age\, refused to be called the son of Pharaoh’s daughter\, choosing rather to suffer affliction with the people of God than to enjoy the passing pleasures of sin\, esteeming the reproach of Christ far greater riches than the treasures in Egypt; for he looked to the reward. Hebrews 11:24-26 \n  \nCLICK HERE TO SIGN UP!
URL:https://calvarychapelbartlett.com/event/womens-bible-study-evening-session/2026-03-24/
LOCATION:Calvary Chapel Bartlett\, 8587 Memphis Arlington Rd.\, Bartlett\, TN\, 38133\, United States
CATEGORIES:Women's Ministry
END:VEVENT
BEGIN:VEVENT
DTSTART;TZID=America/Chicago:20260325T190000
DTEND;TZID=America/Chicago:20260325T203000
DTSTAMP:20260422T040131
CREATED:20250312T235619Z
LAST-MODIFIED:20250330T155209Z
UID:10002445-1774465200-1774470600@calvarychapelbartlett.com
SUMMARY:Wednesday Evening Service
DESCRIPTION:Come fellowship with us! \nWe are gathering together to worship the Lord and study His Word! Come seek His face and grow in the grace and knowledge of our Lord and Savior Jesus Christ. \nFor anyone unable to attend the service in person\, we continue to livestream every Sunday morning and Wednesday night on our Live page.
URL:https://calvarychapelbartlett.com/event/wednesday-evening-service-257/2026-03-25/
LOCATION:Calvary Chapel Bartlett\, 8587 Memphis Arlington Rd.\, Bartlett\, TN\, 38133\, United States
CATEGORIES:Weekly Services
END:VEVENT
BEGIN:VEVENT
DTSTART;TZID=America/Chicago:20260328T080000
DTEND;TZID=America/Chicago:20260328T110000
DTSTAMP:20260422T040131
CREATED:20260319T003621Z
LAST-MODIFIED:20260319T003621Z
UID:10003195-1774684800-1774695600@calvarychapelbartlett.com
SUMMARY:Youth Soccer Day
DESCRIPTION:Join your fellow youth for a time of outdoor fellowship at the Appling Middle School soccer fields! \nMake sure to bring cleats\, water\, and a friend! \nThis event is open to both the Jr. High and High School youth. \nSee the map below for location details.
URL:https://calvarychapelbartlett.com/event/youth-soccer-day/
LOCATION:Appling Soccer Fields\, 3610 Appling Road\, Bartlett\, TN\, 38133\, United States
CATEGORIES:Youth Group
END:VEVENT
BEGIN:VEVENT
DTSTART;TZID=America/Chicago:20260328T180000
DTEND;TZID=America/Chicago:20260328T210000
DTSTAMP:20260422T040131
CREATED:20260315T153410Z
LAST-MODIFIED:20260315T153410Z
UID:10003193-1774720800-1774731600@calvarychapelbartlett.com
SUMMARY:Married Fellowship Game Night
DESCRIPTION:Join the other married couples of CCB for a special game night! \nWe ask that you bring a game to play and a snack to share. \n  \nThere is limited first-come\, first-served childcare provided.  If you need childcare\, please sign up at the church Connections Table. \n  \nWe hope to see you there!
URL:https://calvarychapelbartlett.com/event/married-fellowship-game-night/
LOCATION:Calvary Chapel Bartlett\, 8587 Memphis Arlington Rd.\, Bartlett\, TN\, 38133\, United States
CATEGORIES:Married's Ministry
END:VEVENT
BEGIN:VEVENT
DTSTART;TZID=America/Chicago:20260329T100000
DTEND;TZID=America/Chicago:20260329T113000
DTSTAMP:20260422T040131
CREATED:20250105T062157Z
LAST-MODIFIED:20250330T154922Z
UID:10001934-1774778400-1774783800@calvarychapelbartlett.com
SUMMARY:Sunday Morning Service
DESCRIPTION:Come fellowship with us! \nWe are gathering together to worship the Lord and study His Word! Come seek His face and grow in the grace and knowledge of our Lord and Savior Jesus Christ. \nFor anyone unable to attend the service in person\, we continue to livestream every Sunday morning and Wednesday night on our Live page.
URL:https://calvarychapelbartlett.com/event/sunday-morning-service-247/2026-03-29/
LOCATION:Calvary Chapel Bartlett\, 8587 Memphis Arlington Rd.\, Bartlett\, TN\, 38133\, United States
CATEGORIES:Weekly Services
END:VEVENT
BEGIN:VEVENT
DTSTART;TZID=America/Chicago:20260329T183000
DTEND;TZID=America/Chicago:20260329T200000
DTSTAMP:20260422T040131
CREATED:20250105T063412Z
LAST-MODIFIED:20260405T145419Z
UID:10003269-1774809000-1774814400@calvarychapelbartlett.com
SUMMARY:Sunday Evening Prayer Service
DESCRIPTION:Come fellowship with us! \nWe are gathering to worship the Lord\, study His Word\, and go to Him in prayer! Come seek His face and grow in the grace and knowledge of our Lord and Savior Jesus Christ. \nThere is currently no childcare provided for Sunday evening services.
URL:https://calvarychapelbartlett.com/event/sunday-evening-prayer-service-235/2026-03-29/
LOCATION:Calvary Chapel Bartlett\, 8587 Memphis Arlington Rd.\, Bartlett\, TN\, 38133\, United States
CATEGORIES:Weekly Services
END:VEVENT
BEGIN:VEVENT
DTSTART;TZID=America/Chicago:20260331T093000
DTEND;TZID=America/Chicago:20260331T110000
DTSTAMP:20260422T040131
CREATED:20250803T150852Z
LAST-MODIFIED:20260125T223009Z
UID:10002924-1774949400-1774954800@calvarychapelbartlett.com
SUMMARY:Women's Bible Study - Morning Session
DESCRIPTION:Join us for our Women’s Bible Study\, following the life of Moses!\n\nMOSES: FIRE – WATER – STONE\n  \nChildcare is provided for morning sessions \n  \nThe cost is $25 for materials \n  \nBy faith Moses\, when he became of age\, refused to be called the son of Pharaoh’s daughter\, choosing rather to suffer affliction with the people of God than to enjoy the passing pleasures of sin\, esteeming the reproach of Christ far greater riches than the treasures in Egypt; for he looked to the reward. Hebrews 11:24-26 \n  \nCLICK HERE TO SIGN UP!
URL:https://calvarychapelbartlett.com/event/womens-bible-study-morning-session/2026-03-31/
LOCATION:Calvary Chapel Bartlett\, 8587 Memphis Arlington Rd.\, Bartlett\, TN\, 38133\, United States
CATEGORIES:Women's Ministry
END:VEVENT
END:VCALENDAR