BEGIN:VCALENDAR
VERSION:2.0
PRODID:-//Calvary Chapel Bartlett - ECPv6.15.20//NONSGML v1.0//EN
CALSCALE:GREGORIAN
METHOD:PUBLISH
X-WR-CALNAME:Calvary Chapel Bartlett
X-ORIGINAL-URL:https://calvarychapelbartlett.com
X-WR-CALDESC:Events for Calvary Chapel Bartlett
REFRESH-INTERVAL;VALUE=DURATION:PT1H
X-Robots-Tag:noindex
X-PUBLISHED-TTL:PT1H
BEGIN:VTIMEZONE
TZID:America/Chicago
BEGIN:DAYLIGHT
TZOFFSETFROM:-0600
TZOFFSETTO:-0500
TZNAME:CDT
DTSTART:20250309T080000
END:DAYLIGHT
BEGIN:STANDARD
TZOFFSETFROM:-0500
TZOFFSETTO:-0600
TZNAME:CST
DTSTART:20251102T070000
END:STANDARD
BEGIN:DAYLIGHT
TZOFFSETFROM:-0600
TZOFFSETTO:-0500
TZNAME:CDT
DTSTART:20260308T080000
END:DAYLIGHT
BEGIN:STANDARD
TZOFFSETFROM:-0500
TZOFFSETTO:-0600
TZNAME:CST
DTSTART:20261101T070000
END:STANDARD
BEGIN:DAYLIGHT
TZOFFSETFROM:-0600
TZOFFSETTO:-0500
TZNAME:CDT
DTSTART:20270314T080000
END:DAYLIGHT
BEGIN:STANDARD
TZOFFSETFROM:-0500
TZOFFSETTO:-0600
TZNAME:CST
DTSTART:20271107T070000
END:STANDARD
END:VTIMEZONE
BEGIN:VEVENT
DTSTART;TZID=America/Chicago:20260401T190000
DTEND;TZID=America/Chicago:20260401T203000
DTSTAMP:20260421T035209
CREATED:20260329T154214Z
LAST-MODIFIED:20260329T154216Z
UID:10002446-1775070000-1775075400@calvarychapelbartlett.com
SUMMARY:CANCELLED - Wednesday Evening Service
DESCRIPTION:Tonight’s service has been cancelled. \nWe hope to see you on Good Friday!
URL:https://calvarychapelbartlett.com/event/wednesday-evening-service-257-4/
LOCATION:Calvary Chapel Bartlett\, 8587 Memphis Arlington Rd.\, Bartlett\, TN\, 38133\, United States
CATEGORIES:Cancelled Events
END:VEVENT
END:VCALENDAR